BEGIN:VCALENDAR
VERSION:2.0
PRODID:-//Hardee’s - BNE Careers - ECPv6.3.5//NONSGML v1.0//EN
CALSCALE:GREGORIAN
METHOD:PUBLISH
X-WR-CALNAME:Hardee’s - BNE Careers
X-ORIGINAL-URL:https://bnecareers.com
X-WR-CALDESC:Events for Hardee’s - BNE Careers
REFRESH-INTERVAL;VALUE=DURATION:PT1H
X-Robots-Tag:noindex
X-PUBLISHED-TTL:PT1H
BEGIN:VTIMEZONE
TZID:America/New_York
BEGIN:DAYLIGHT
TZOFFSETFROM:-0500
TZOFFSETTO:-0400
TZNAME:EDT
DTSTART:20220313T070000
END:DAYLIGHT
BEGIN:STANDARD
TZOFFSETFROM:-0400
TZOFFSETTO:-0500
TZNAME:EST
DTSTART:20221106T060000
END:STANDARD
BEGIN:DAYLIGHT
TZOFFSETFROM:-0500
TZOFFSETTO:-0400
TZNAME:EDT
DTSTART:20230312T070000
END:DAYLIGHT
BEGIN:STANDARD
TZOFFSETFROM:-0400
TZOFFSETTO:-0500
TZNAME:EST
DTSTART:20231105T060000
END:STANDARD
BEGIN:DAYLIGHT
TZOFFSETFROM:-0500
TZOFFSETTO:-0400
TZNAME:EDT
DTSTART:20240310T070000
END:DAYLIGHT
BEGIN:STANDARD
TZOFFSETFROM:-0400
TZOFFSETTO:-0500
TZNAME:EST
DTSTART:20241103T060000
END:STANDARD
BEGIN:DAYLIGHT
TZOFFSETFROM:-0500
TZOFFSETTO:-0400
TZNAME:EDT
DTSTART:20250309T070000
END:DAYLIGHT
BEGIN:STANDARD
TZOFFSETFROM:-0400
TZOFFSETTO:-0500
TZNAME:EST
DTSTART:20251102T060000
END:STANDARD
END:VTIMEZONE
BEGIN:VEVENT
DTSTART;TZID=America/New_York:20251008T100000
DTEND;TZID=America/New_York:20251008T160000
DTSTAMP:20260421T075750
CREATED:20250916T214855Z
LAST-MODIFIED:20250916T214855Z
UID:16319-1759917600-1759939200@bnecareers.com
SUMMARY:Management Job Fair in London\, KY
DESCRIPTION:Hiring for Shift Leaders\, Breakfast Manager and Assistant Managers
URL:https://bnecareers.com/job-fair/management-job-fair-in-london-ky/
LOCATION:Hardee’s of London\, 1974 West Hwy 192\, London\, KY\, 40741\, United States
CATEGORIES:Job Fair
END:VEVENT
BEGIN:VEVENT
DTSTART;TZID=America/New_York:20250819T100000
DTEND;TZID=America/New_York:20250819T180000
DTSTAMP:20260421T075750
CREATED:20250812T202649Z
LAST-MODIFIED:20250812T202649Z
UID:16316-1755597600-1755626400@bnecareers.com
SUMMARY:Crew Job Fair in Salem\, Va.
DESCRIPTION:We’ll be hiring for all crew positions for all Salem Hardee’s!
URL:https://bnecareers.com/job-fair/crew-job-fair-in-salem-va/
LOCATION:Hardee’s of Salem #2\, 2038 W. Main Street\, Salem\, VA\, 24153\, United States
CATEGORIES:Job Fair
END:VEVENT
BEGIN:VEVENT
DTSTART;TZID=America/New_York:20250605T110000
DTEND;TZID=America/New_York:20250605T170000
DTSTAMP:20260421T075750
CREATED:20250531T155826Z
LAST-MODIFIED:20250531T155826Z
UID:16309-1749121200-1749142800@bnecareers.com
SUMMARY:Crew Job Fair in Paintsville\, KY
DESCRIPTION:
URL:https://bnecareers.com/job-fair/crew-job-fair-in-paintsville-ky/
LOCATION:Hardee’s of Paintsville\, 545 N Mayo Trail\, Paintsville\, KY\, 41240\, United States
CATEGORIES:Job Fair
END:VEVENT
BEGIN:VEVENT
DTSTART;TZID=America/New_York:20250605T100000
DTEND;TZID=America/New_York:20250605T170000
DTSTAMP:20260421T075750
CREATED:20250508T174257Z
LAST-MODIFIED:20250508T174257Z
UID:16305-1749117600-1749142800@bnecareers.com
SUMMARY:Crew and Manager Job Fair in Madison\, N.C.
DESCRIPTION:Hiring for all positions!
URL:https://bnecareers.com/job-fair/crew-and-manager-job-fair-in-madison-n-c/
LOCATION:Madison-Mayodan Library\, 611 Burton Street\, Madison\, NC\, 27025\, United States
CATEGORIES:Job Fair
END:VEVENT
BEGIN:VEVENT
DTSTART;TZID=America/New_York:20250521T110000
DTEND;TZID=America/New_York:20250521T170000
DTSTAMP:20260421T075750
CREATED:20250508T174043Z
LAST-MODIFIED:20250509T173523Z
UID:16303-1747825200-1747846800@bnecareers.com
SUMMARY:Crew and Manager Job Fair in Pikeville\, KY
DESCRIPTION:Hiring for all positions!
URL:https://bnecareers.com/job-fair/crew-and-manager-job-fair-in-pikeville-ky/
LOCATION:Hardee’s of Pikeville\, 667 Hambley Blvd\, Pikeville\, KY\, 41501\, United States
CATEGORIES:Job Fair
END:VEVENT
BEGIN:VEVENT
DTSTART;TZID=America/New_York:20241127T130000
DTEND;TZID=America/New_York:20241127T170000
DTSTAMP:20260421T075750
CREATED:20241125T123712Z
LAST-MODIFIED:20241125T123712Z
UID:16299-1732712400-1732726800@bnecareers.com
SUMMARY:Final Hiring Event for New Moneta Hardee's
DESCRIPTION:Join us for our final hiring event for our newest Hardee’s location in Moneta! We’ll be hiring on the spot at the Moneta Library on Nov. 25 and 26 from 9:30 a.m. to 5 p.m. and Nov. 27 from 1 p.m. until 5 p.m. We can’t wait to meet you!
URL:https://bnecareers.com/job-fair/final-hiring-event-for-new-moneta-hardees-3/
LOCATION:Moneta Library\, 13641 Moneta Road\, Moneta\, VA\, 24121\, United States
CATEGORIES:Job Fair
END:VEVENT
BEGIN:VEVENT
DTSTART;TZID=America/New_York:20241126T090000
DTEND;TZID=America/New_York:20241126T170000
DTSTAMP:20260421T075750
CREATED:20241125T123635Z
LAST-MODIFIED:20241125T123635Z
UID:16297-1732611600-1732640400@bnecareers.com
SUMMARY:Final Hiring Event for New Moneta Hardee's
DESCRIPTION:Join us for our final hiring event for our newest Hardee’s location in Moneta! We’ll be hiring on the spot at the Moneta Library on Nov. 25 and 26 from 9:30 a.m. to 5 p.m. and Nov. 27 from 1 p.m. until 5 p.m. We can’t wait to meet you!
URL:https://bnecareers.com/job-fair/final-hiring-event-for-new-moneta-hardees-2/
LOCATION:Moneta Library\, 13641 Moneta Road\, Moneta\, VA\, 24121\, United States
CATEGORIES:Job Fair
END:VEVENT
BEGIN:VEVENT
DTSTART;TZID=America/New_York:20241125T090000
DTEND;TZID=America/New_York:20241125T170000
DTSTAMP:20260421T075750
CREATED:20241125T123445Z
LAST-MODIFIED:20241125T123446Z
UID:16294-1732525200-1732554000@bnecareers.com
SUMMARY:Final Hiring Event for New Moneta Hardee's
DESCRIPTION:Join us for our final hiring event for our newest Hardee’s location in Moneta! We’ll be hiring on the spot at the Moneta Library on Nov. 25 and 26 from 9:30 a.m. to 5 p.m. and Nov. 27 from 1 p.m. until 5 p.m. We can’t wait to meet you!
URL:https://bnecareers.com/job-fair/final-hiring-event-for-new-moneta-hardees/
LOCATION:Moneta Library\, 13641 Moneta Road\, Moneta\, VA\, 24121\, United States
CATEGORIES:Job Fair
END:VEVENT
BEGIN:VEVENT
DTSTART;TZID=America/New_York:20241106T093000
DTEND;TZID=America/New_York:20241108T170000
DTSTAMP:20260421T075750
CREATED:20241105T123922Z
LAST-MODIFIED:20241105T123922Z
UID:16290-1730885400-1731085200@bnecareers.com
SUMMARY:Hiring Event in Bedford\, Va.
DESCRIPTION:Join us Nov. 6\, 7 and 8 from 9:30 a.m. to 5:30 p.m. for our final hiring event for our newest Hardee’s location in Bedford! Bring your photo ID – we’ll be interviewing on the spot for all positions. Can’t wait to see you!
URL:https://bnecareers.com/job-fair/hiring-event-in-bedford-va/
LOCATION:Bedford Library\, 321 N. Bridge Street\, Bedford\, VA\, 24523\, United States
CATEGORIES:Job Fair
END:VEVENT
BEGIN:VEVENT
DTSTART;TZID=America/New_York:20231116T100000
DTEND;TZID=America/New_York:20231116T170000
DTSTAMP:20260421T075750
CREATED:20231027T123404Z
LAST-MODIFIED:20231027T123404Z
UID:16256-1700128800-1700154000@bnecareers.com
SUMMARY:Crew and Management Job Fair in Dublin\, Va.
DESCRIPTION:
URL:https://bnecareers.com/job-fair/crew-and-management-job-fair-in-dublin-va/
LOCATION:Hardee’s of Dublin\, 208 State Road 373\, Dublin\, VA\, 24084\, United States
CATEGORIES:Job Fair
END:VEVENT
BEGIN:VEVENT
DTSTART;TZID=America/New_York:20231109T113000
DTEND;TZID=America/New_York:20231109T170000
DTSTAMP:20260421T075750
CREATED:20231027T123247Z
LAST-MODIFIED:20231027T123247Z
UID:16254-1699529400-1699549200@bnecareers.com
SUMMARY:Crew and Management Job Fair in Christiansburg\, Va.
DESCRIPTION:
URL:https://bnecareers.com/job-fair/crew-and-management-job-fair-in-christiansburg-va-2/
LOCATION:Hardee’s in Christiansburg 460\, 2880 Market Street\, Christiansburg\, VA\, 24073\, United States
CATEGORIES:Job Fair
END:VEVENT
BEGIN:VEVENT
DTSTART;TZID=America/New_York:20231108T100000
DTEND;TZID=America/New_York:20231108T170000
DTSTAMP:20260421T075750
CREATED:20231027T123101Z
LAST-MODIFIED:20231027T123101Z
UID:16252-1699437600-1699462800@bnecareers.com
SUMMARY:Crew and Management Job Fair in Blacksburg\, Va.
DESCRIPTION:
URL:https://bnecareers.com/job-fair/crew-and-management-job-fair-in-blacksburg-va/
LOCATION:Hardee’s of University Mall\, 904 Prices Fork Road\, Blacksburg\, VA\, 24060\, United States
CATEGORIES:Job Fair
END:VEVENT
BEGIN:VEVENT
DTSTART;TZID=America/New_York:20230608T110000
DTEND;TZID=America/New_York:20230608T170000
DTSTAMP:20260421T075750
CREATED:20230516T110359Z
LAST-MODIFIED:20230516T110359Z
UID:16231-1686222000-1686243600@bnecareers.com
SUMMARY:Job Fair in Lebanon\, Va.
DESCRIPTION:
URL:https://bnecareers.com/job-fair/job-fair-in-lebanon-va/
LOCATION:Hardee’s of Lebanon\, 1273 East Main Street\, Lebanon\, VA\, 24266\, United States
CATEGORIES:Job Fair
END:VEVENT
BEGIN:VEVENT
DTSTART;TZID=America/New_York:20230607T100000
DTEND;TZID=America/New_York:20230607T170000
DTSTAMP:20260421T075750
CREATED:20230605T151100Z
LAST-MODIFIED:20230605T151100Z
UID:16241-1686132000-1686157200@bnecareers.com
SUMMARY:Pikeville Job Fair
DESCRIPTION:
URL:https://bnecareers.com/job-fair/pikeville-job-fair/
LOCATION:Hardee’s of Pikeville\, 667 Hambley Blvd\, Pikeville\, KY\, 41501\, United States
CATEGORIES:Job Fair
END:VEVENT
BEGIN:VEVENT
DTSTART;TZID=America/New_York:20230606T110000
DTEND;TZID=America/New_York:20230606T170000
DTSTAMP:20260421T075750
CREATED:20230516T110249Z
LAST-MODIFIED:20230516T110249Z
UID:16228-1686049200-1686070800@bnecareers.com
SUMMARY:Job Fair in Chilhowie\, Va.
DESCRIPTION:
URL:https://bnecareers.com/job-fair/job-fair-in-chilhowie-va/
LOCATION:Chilhowie\, 509 Whitetop Road\, Chilhowie\, VA\, 24319\, United States
CATEGORIES:Job Fair
END:VEVENT
BEGIN:VEVENT
DTSTART;TZID=America/New_York:20230124T133000
DTEND;TZID=America/New_York:20230124T163000
DTSTAMP:20260421T075750
CREATED:20230117T182506Z
LAST-MODIFIED:20230117T182506Z
UID:16211-1674567000-1674577800@bnecareers.com
SUMMARY:Job Fair in Leland\, N.C.
DESCRIPTION:
URL:https://bnecareers.com/job-fair/job-fair-in-leland-n-c-2/
LOCATION:Hardee’s of Leland\, 3676 Maco Road\, Leland\, NC\, 28451\, United States
CATEGORIES:Job Fair
END:VEVENT
BEGIN:VEVENT
DTSTART;TZID=America/New_York:20230124T133000
DTEND;TZID=America/New_York:20230124T163000
DTSTAMP:20260421T075750
CREATED:20230117T182402Z
LAST-MODIFIED:20230117T182402Z
UID:16208-1674567000-1674577800@bnecareers.com
SUMMARY:Job Fair in Wilmington\, N.C.
DESCRIPTION:
URL:https://bnecareers.com/job-fair/job-fair-in-wilmington-n-c-6/
LOCATION:2518 Carolina Beach Road\, 2518 Carolina Beach Road\, Wilmington\, NC\, 28401\, United States
CATEGORIES:Job Fair
END:VEVENT
BEGIN:VEVENT
DTSTART;TZID=America/New_York:20230124T133000
DTEND;TZID=America/New_York:20230124T163000
DTSTAMP:20260421T075750
CREATED:20230117T182130Z
LAST-MODIFIED:20230117T182130Z
UID:16203-1674567000-1674577800@bnecareers.com
SUMMARY:Job Fair in Hampstead\, N.C.
DESCRIPTION:
URL:https://bnecareers.com/job-fair/job-fair-in-hampstead-n-c-2/
LOCATION:Hampstead\, 14535 Highway 17 S\, Hampstead\, NC\, 28443\, United States
CATEGORIES:Job Fair
END:VEVENT
BEGIN:VEVENT
DTSTART;TZID=America/New_York:20230119T133000
DTEND;TZID=America/New_York:20230119T163000
DTSTAMP:20260421T075750
CREATED:20230117T181932Z
LAST-MODIFIED:20230117T181932Z
UID:16200-1674135000-1674145800@bnecareers.com
SUMMARY:Job Fair in Aberdeen\, N.C.
DESCRIPTION:
URL:https://bnecareers.com/job-fair/job-fair-in-aberdeen-n-c-3/
LOCATION:1304 Sandhills Blvd. N\, 1304 Sandhills Blvd. N\, Aberdeen\, NC\, 28315\, United States
CATEGORIES:Job Fair
END:VEVENT
BEGIN:VEVENT
DTSTART;TZID=America/New_York:20230119T133000
DTEND;TZID=America/New_York:20230119T163000
DTSTAMP:20260421T075750
CREATED:20230117T181736Z
LAST-MODIFIED:20230117T181736Z
UID:16197-1674135000-1674145800@bnecareers.com
SUMMARY:Job Fair in Aberdeen\, N.C.
DESCRIPTION:
URL:https://bnecareers.com/job-fair/job-fair-in-aberdeen-n-c-2/
LOCATION:Aberdeen\, 1664 NC Highway 5\, Aberdeen\, NC\, 28315\, United States
CATEGORIES:Job Fair
END:VEVENT
BEGIN:VEVENT
DTSTART;TZID=America/New_York:20230118T133000
DTEND;TZID=America/New_York:20230118T163000
DTSTAMP:20260421T075750
CREATED:20230117T181609Z
LAST-MODIFIED:20230117T181609Z
UID:16194-1674048600-1674059400@bnecareers.com
SUMMARY:Job Fair in Apex\, N.C.
DESCRIPTION:
URL:https://bnecareers.com/job-fair/job-fair-in-apex-n-c/
LOCATION:Hardee’s in Apex\, 40 Beaver Creak Road\, Apex\, NC\, 27502\, United States
CATEGORIES:Job Fair
END:VEVENT
BEGIN:VEVENT
DTSTART;TZID=America/New_York:20230118T133000
DTEND;TZID=America/New_York:20230118T163000
DTSTAMP:20260421T075750
CREATED:20230117T181417Z
LAST-MODIFIED:20230117T181417Z
UID:16191-1674048600-1674059400@bnecareers.com
SUMMARY:Job Fair in Pittsboro\, N.C.
DESCRIPTION:
URL:https://bnecareers.com/job-fair/job-fair-in-pittsboro-n-c/
LOCATION:Hardee’s in Pittsboro\, 28 East Street\, Pittsboro\, NC\, 27312\, United States
CATEGORIES:Job Fair
END:VEVENT
BEGIN:VEVENT
DTSTART;TZID=America/New_York:20230112T110000
DTEND;TZID=America/New_York:20230112T170000
DTSTAMP:20260421T075750
CREATED:20230105T152641Z
LAST-MODIFIED:20230105T153121Z
UID:16180-1673521200-1673542800@bnecareers.com
SUMMARY:Crew Job Fair in Lebanon\, Va.
DESCRIPTION:
URL:https://bnecareers.com/job-fair/crew-job-fair/
LOCATION:Hardee’s of Lebanon\, 1273 East Main Street\, Lebanon\, VA\, 24266\, United States
CATEGORIES:Job Fair
END:VEVENT
BEGIN:VEVENT
DTSTART;TZID=America/New_York:20230111T100000
DTEND;TZID=America/New_York:20230111T150000
DTSTAMP:20260421T075750
CREATED:20230105T153020Z
LAST-MODIFIED:20230105T153020Z
UID:16182-1673431200-1673449200@bnecareers.com
SUMMARY:Management Job Fair in Henderson\, N.C.
DESCRIPTION:NOW HIRING for Management Positions in Henderson\, Oxford\, Creedmoor\, Bunn\, and Warrenton!
URL:https://bnecareers.com/job-fair/management-job-fair-in-henderson-n-c/
LOCATION:NCWorks Career Center\, 826 S. Garnett Street\, Henderson\, NC\, 27536\, United States
CATEGORIES:Job Fair
END:VEVENT
BEGIN:VEVENT
DTSTART;TZID=America/New_York:20221130T110000
DTEND;TZID=America/New_York:20221130T170000
DTSTAMP:20260421T075750
CREATED:20221110T142509Z
LAST-MODIFIED:20221110T142509Z
UID:16171-1669806000-1669827600@bnecareers.com
SUMMARY:Crew and Management Job Fair in Springfield\, KY
DESCRIPTION:
URL:https://bnecareers.com/job-fair/crew-and-management-job-fair-in-springfield-ky/
LOCATION:Hardee’s of Springfield\, 801 Bardstown Road\, Springfield\, KY\, 40069\, United States
CATEGORIES:Job Fair
END:VEVENT
BEGIN:VEVENT
DTSTART;TZID=America/New_York:20221129T110000
DTEND;TZID=America/New_York:20221129T170000
DTSTAMP:20260421T075750
CREATED:20221110T142222Z
LAST-MODIFIED:20221110T142222Z
UID:16168-1669719600-1669741200@bnecareers.com
SUMMARY:Crew and Management Job Fair in London\, KY
DESCRIPTION:
URL:https://bnecareers.com/job-fair/crew-and-management-job-fair-in-london-ky/
LOCATION:Hardee’s of London\, 1974 West Hwy 192\, London\, KY\, 40741\, United States
CATEGORIES:Job Fair
END:VEVENT
BEGIN:VEVENT
DTSTART;TZID=America/New_York:20221128T140000
DTEND;TZID=America/New_York:20221128T180000
DTSTAMP:20260421T075750
CREATED:20221125T133815Z
LAST-MODIFIED:20221125T133815Z
UID:16176-1669644000-1669658400@bnecareers.com
SUMMARY:Job Fair in Portsmouth\, Va.
DESCRIPTION:
URL:https://bnecareers.com/job-fair/job-fair-in-portsmouth-va/
LOCATION:Hardee’s of Portside\, 850 London Blvd.\, Portsmouth\, VA\, 23704\, United States
CATEGORIES:Job Fair
END:VEVENT
BEGIN:VEVENT
DTSTART;TZID=America/New_York:20221102T110000
DTEND;TZID=America/New_York:20221102T170000
DTSTAMP:20260421T075750
CREATED:20221023T132158Z
LAST-MODIFIED:20221023T132158Z
UID:16155-1667386800-1667408400@bnecareers.com
SUMMARY:Crew and Management Job Fair in Clintwood\, Va.
DESCRIPTION:
URL:https://bnecareers.com/job-fair/crew-and-management-job-fair-in-clintwood-va/
LOCATION:Hardee’s of Clintwood\, 5012 Dickerson Highway\, Clintwood\, VA\, 24228\, United States
CATEGORIES:Job Fair
END:VEVENT
BEGIN:VEVENT
DTSTART;TZID=America/New_York:20221027T133000
DTEND;TZID=America/New_York:20221027T153000
DTSTAMP:20260421T075750
CREATED:20221012T153136Z
LAST-MODIFIED:20221012T153136Z
UID:16151-1666877400-1666884600@bnecareers.com
SUMMARY:Job Fair in Ocean Isle Beach\, N.C.
DESCRIPTION:Now Hiring\nHardee’s  \nCompetitive Pay  \nGreat Opportunity for:\nSenior Citizens\, Adults\, College Students\, Retirees\, Teachers and Teens \nAll Shifts and Positions \nCome Grow with Us\, there are opportunities for growth at any level –\nwhether an hourly crew member or in management – when you are part of our Hardee’s Team \nApply Online at BNECAREERS.COM\nOr\nText ‘BNEJOBS’ TO 25000 \nFun & Flexible Work Environment\, Great Schedule\, Free and Discounted Meals\nWE OFFER BENEFITS AND MUCH MORE\nMedical\, Dental\, Vision\, Life\nVacation\, 401k\, Scholarships\, Tuition Reimbursement\nSick Pay\, Holiday Pay\, Jury Duty Pay\nBereavement Pay
URL:https://bnecareers.com/job-fair/job-fair-in-ocean-isle-beach-n-c/
LOCATION:Ocean Isle Beach\, 1651 Seaside Road SW\, Ocean Isle Beach\, NC\, 28469\, United States
CATEGORIES:Job Fair
END:VEVENT
BEGIN:VEVENT
DTSTART;TZID=America/New_York:20221027T133000
DTEND;TZID=America/New_York:20221027T153000
DTSTAMP:20260421T075750
CREATED:20221012T153005Z
LAST-MODIFIED:20221012T153005Z
UID:16149-1666877400-1666884600@bnecareers.com
SUMMARY:Job Fair in Supply\, N.C.
DESCRIPTION:Now Hiring\nHardee’s  \nCompetitive Pay  \nGreat Opportunity for:\nSenior Citizens\, Adults\, College Students\, Retirees\, Teachers and Teens \nAll Shifts and Positions \nCome Grow with Us\, there are opportunities for growth at any level –\nwhether an hourly crew member or in management – when you are part of our Hardee’s Team \nApply Online at BNECAREERS.COM\nOr\nText ‘BNEJOBS’ TO 25000 \nFun & Flexible Work Environment\, Great Schedule\, Free and Discounted Meals\nWE OFFER BENEFITS AND MUCH MORE\nMedical\, Dental\, Vision\, Life\nVacation\, 401k\, Scholarships\, Tuition Reimbursement\nSick Pay\, Holiday Pay\, Jury Duty Pay\nBereavement Pay
URL:https://bnecareers.com/job-fair/job-fair-in-supply-n-c/
LOCATION:Hardee’s of Supply\, 5 Ocean Highway East\, Supply\, 28462\, United States
CATEGORIES:Job Fair
END:VEVENT
END:VCALENDAR