BEGIN:VCALENDAR
VERSION:2.0
PRODID:-//Hardee’s - BNE Careers - ECPv6.3.5//NONSGML v1.0//EN
CALSCALE:GREGORIAN
METHOD:PUBLISH
X-WR-CALNAME:Hardee’s - BNE Careers
X-ORIGINAL-URL:https://bnecareers.com
X-WR-CALDESC:Events for Hardee’s - BNE Careers
REFRESH-INTERVAL;VALUE=DURATION:PT1H
X-Robots-Tag:noindex
X-PUBLISHED-TTL:PT1H
BEGIN:VTIMEZONE
TZID:America/New_York
BEGIN:DAYLIGHT
TZOFFSETFROM:-0500
TZOFFSETTO:-0400
TZNAME:EDT
DTSTART:20200308T070000
END:DAYLIGHT
BEGIN:STANDARD
TZOFFSETFROM:-0400
TZOFFSETTO:-0500
TZNAME:EST
DTSTART:20201101T060000
END:STANDARD
END:VTIMEZONE
BEGIN:VEVENT
DTSTART;TZID=America/New_York:20201119T100000
DTEND;TZID=America/New_York:20201119T190000
DTSTAMP:20260421T211653
CREATED:20201029T125946Z
LAST-MODIFIED:20201029T125946Z
UID:15711-1605780000-1605812400@bnecareers.com
SUMMARY:Crew and Management Job Fair in Hillsville\, Va.
DESCRIPTION:Come meet our new GM!
URL:https://bnecareers.com/job-fair/crew-and-management-job-fair-in-hillsville-va/
LOCATION:Hillsville\, 115 N. Main Street\, Hillsville\, VA\, 24343\, United States
CATEGORIES:Job Fair
END:VEVENT
BEGIN:VEVENT
DTSTART;TZID=America/New_York:20201112T100000
DTEND;TZID=America/New_York:20201112T190000
DTSTAMP:20260421T211653
CREATED:20201029T125654Z
LAST-MODIFIED:20201029T134544Z
UID:15708-1605175200-1605207600@bnecareers.com
SUMMARY:Crew and Management Job Fair in Pilot Mountain\, N.C.
DESCRIPTION:Come meet our new GM!
URL:https://bnecareers.com/job-fair/crew-and-management-job-fair-in-pilot-mountain-n-c/
LOCATION:Armfield Civic and Recreation Center\, 873 W. 52 Bypass\, Pilot Mountain\, NC\, 27041\, United States
CATEGORIES:Job Fair
END:VEVENT
BEGIN:VEVENT
DTSTART;TZID=America/New_York:20201111T090000
DTEND;TZID=America/New_York:20201111T190000
DTSTAMP:20260421T211653
CREATED:20201105T141100Z
LAST-MODIFIED:20201105T141100Z
UID:15715-1605085200-1605121200@bnecareers.com
SUMMARY:Hiring Event in Petersburg\, Va.
DESCRIPTION:Offers on the spot for Hardee’s of Prince George\, our newest Hardee’s location! \nRegister here: https://events.indeed.com/event/72144/?from=fb
URL:https://bnecareers.com/job-fair/hiring-event-in-petersburg-va-2/
LOCATION:2135 County Drive\, 2135 County Drive\, Petersburg\, VA\, 23803\, United States
CATEGORIES:Job Fair
END:VEVENT
BEGIN:VEVENT
DTSTART;TZID=America/New_York:20201105T100000
DTEND;TZID=America/New_York:20201105T170000
DTSTAMP:20260421T211653
CREATED:20201022T125230Z
LAST-MODIFIED:20201022T125230Z
UID:15706-1604570400-1604595600@bnecareers.com
SUMMARY:Management and Crew Job Fair in Roanoke\, Va.
DESCRIPTION:
URL:https://bnecareers.com/job-fair/management-and-crew-job-fair-in-roanoke-va/
LOCATION:Hardee’s of Tanglewood Mall\, 4060 Electric Road\, Roanoke\, VA\, 24018\, United States
CATEGORIES:Job Fair
END:VEVENT
BEGIN:VEVENT
DTSTART;TZID=America/New_York:20201026T100000
DTEND;TZID=America/New_York:20201026T140000
DTSTAMP:20260421T211653
CREATED:20201021T205223Z
LAST-MODIFIED:20201021T205223Z
UID:15699-1603706400-1603720800@bnecareers.com
SUMMARY:Job Fair in Burgaw\, N.C.
DESCRIPTION:
URL:https://bnecareers.com/job-fair/job-fair-in-burgaw-n-c/
LOCATION:Burgaw\, 602-C Highway 117 North\, Burgaw\, NC\, 28425\, United States
CATEGORIES:Job Fair
END:VEVENT
BEGIN:VEVENT
DTSTART;TZID=America/New_York:20201023T090000
DTEND;TZID=America/New_York:20201023T140000
DTSTAMP:20260421T211653
CREATED:20201022T124432Z
LAST-MODIFIED:20201022T124432Z
UID:15702-1603443600-1603461600@bnecareers.com
SUMMARY:Hiring Event in Petersburg\, Va.
DESCRIPTION:Offers on the spot at our hiring event for our new Hardee’s of Prince George!  \nRSVP here: https://events.indeed.com/event/69884/?from=fb
URL:https://bnecareers.com/job-fair/hiring-event-in-petersburg-va/
LOCATION:1865 S. Crater Road\, 1865 S. Crater Road\, Petersburg\, VA\, 23805\, United States
CATEGORIES:Job Fair
END:VEVENT
BEGIN:VEVENT
DTSTART;TZID=America/New_York:20201021T100000
DTEND;TZID=America/New_York:20201021T160000
DTSTAMP:20260421T211653
CREATED:20201021T133832Z
LAST-MODIFIED:20201021T133832Z
UID:15695-1603274400-1603296000@bnecareers.com
SUMMARY:Job Fair in Hampstead\, N.C.
DESCRIPTION:
URL:https://bnecareers.com/job-fair/job-fair-in-hampstead-n-c/
LOCATION:Hampstead\, 14535 Highway 17 S\, Hampstead\, NC\, 28443\, United States
CATEGORIES:Job Fair
END:VEVENT
BEGIN:VEVENT
DTSTART;TZID=America/New_York:20201015T090000
DTEND;TZID=America/New_York:20201015T160000
DTSTAMP:20260421T211653
CREATED:20201014T121540Z
LAST-MODIFIED:20201014T121540Z
UID:15687-1602752400-1602777600@bnecareers.com
SUMMARY:Job Fair in Garner\, N.C.
DESCRIPTION:Hardee’s Now Hiring\nCooks\, Cashiers\, Biscuit makers and Shift Leaders\nGreat Opportunity for: Senior Citizens\, Adults\, College Students\, Retirees\, Teachers and Teens – Early Day Shifts\, Part time\, Full-time\, Weekends and Evenings. Come Grow with Us\, there are opportunities for growth at any level\, whether an hourly crew member or in management\, when you are part of our Hardee’s Team.\nApply and Check us out at BNECAREERS.COM OR text “JOBS” to 833-600-0506\nCall Hiring Manager to schedule an interview today.\n        919-772-7209  \nShift Leaders Up to $13.00\nCashiers Up to $10.00\nCooks & Biscuit makers Up to $11.00 \nAlso: Great Opportunities and Benefits\nGreat Pay\nDay Shift Incentive\nScholarships Opportunity\nFree and Reduces Meals\nFree Uniform – Hat\, Shirt\nFlexible Schedule\n401k\nHealth Insurance\nBenefits and more… Check us out at BNECAREERS.COM
URL:https://bnecareers.com/job-fair/job-fair-in-garner-n-c/
LOCATION:100 Vandora Springs Road\, 100 Vandora Springs Road\, Garner\, NC\, 27529\, United States
CATEGORIES:Job Fair
END:VEVENT
BEGIN:VEVENT
DTSTART;TZID=America/New_York:20201008T090000
DTEND;TZID=America/New_York:20201008T170000
DTSTAMP:20260421T211653
CREATED:20201001T131632Z
LAST-MODIFIED:20201001T131632Z
UID:15679-1602147600-1602176400@bnecareers.com
SUMMARY:Management Job Fair in Roanoke\, Va.
DESCRIPTION:Come join our team! We’ll be interviewing for a general manager\, assistant manager and shift managers for the Roanoke area.
URL:https://bnecareers.com/job-fair/management-job-fair-in-roanoke-va/
LOCATION:4060 Electric Road\, 4060 Electric Road\, Roanoke\, VA\, 24018\, United States
CATEGORIES:Job Fair
END:VEVENT
BEGIN:VEVENT
DTSTART;TZID=America/New_York:20201006T110000
DTEND;TZID=America/New_York:20201006T170000
DTSTAMP:20260421T211653
CREATED:20200917T191330Z
LAST-MODIFIED:20200917T191330Z
UID:15655-1601982000-1602003600@bnecareers.com
SUMMARY:Crew Job Fair in Denver\, N.C.
DESCRIPTION:Hiring for all crew positions and all shifts!
URL:https://bnecareers.com/job-fair/crew-job-fair-in-denver-n-c/
LOCATION:Hardee’s of Denver\, 6090 Highway 16 N\, Denver\, NC\, 28037\, United States
CATEGORIES:Job Fair
END:VEVENT
BEGIN:VEVENT
DTSTART;TZID=America/New_York:20201005T090000
DTEND;TZID=America/New_York:20201005T160000
DTSTAMP:20260421T211653
CREATED:20201002T183641Z
LAST-MODIFIED:20201002T183641Z
UID:15685-1601888400-1601913600@bnecareers.com
SUMMARY:Job Fair in Wilmington\, N.C.
DESCRIPTION:Hardee’s Now Hiring \nCooks\, Cashiers\, Biscuit makers and Shift Leaders \nGreat Opportunity for: Senior Citizens\, Adults\, College Students\, Retirees\, Teachers and Teens – Early Day Shifts\, Part time\, Full-time\, Weekends and Evenings. Come Grow with Us\, there are opportunities for growth at any level\, whether an hourly crew member or in management\, when you are part of our Hardee’s Team. \nApply and Check us out at BNECAREERS.COM OR text “JOBS” to 833-600-0506 \nCall Hiring Manager to schedule an interview today.\n910-762-3904   \nShift Leaders Up to $13.00\nCashiers Up to $10.00\nCooks & Biscuit makers Up to $11.00 \nAlso: Great Opportunities and Benefits\nGreat Pay\nDay Shift Incentive\nScholarships Opportunity\nFree and Reduces Meals\nFree Uniform – Hat\, Shirt\nFlexible Schedule\n401k\nHealth Insurance\nBenefits and more… Check us out at BNECAREERS.COM
URL:https://bnecareers.com/job-fair/job-fair-in-wilmington-n-c-4/
LOCATION:Hardee’s Highway 421\, 2518 Carolina Beach Road\, Wilmington\, NC\, 28401\, United States
CATEGORIES:Job Fair
END:VEVENT
BEGIN:VEVENT
DTSTART;TZID=America/New_York:20201001T090000
DTEND;TZID=America/New_York:20201001T160000
DTSTAMP:20260421T211653
CREATED:20200921T180235Z
LAST-MODIFIED:20200921T180235Z
UID:15672-1601542800-1601568000@bnecareers.com
SUMMARY:Job Fair in Carolina Beach\, N.C.
DESCRIPTION:
URL:https://bnecareers.com/job-fair/job-fair-in-carolina-beach-n-c/
LOCATION:Carolina Beach\, 254 North Lake Park Blvd\, Carolina Beach\, 28428\, United States
CATEGORIES:Job Fair
END:VEVENT
BEGIN:VEVENT
DTSTART;TZID=America/New_York:20200930T100000
DTEND;TZID=America/New_York:20200930T180000
DTSTAMP:20260421T211653
CREATED:20200921T180120Z
LAST-MODIFIED:20200921T180120Z
UID:15670-1601460000-1601488800@bnecareers.com
SUMMARY:Job Fair in Ravenel\, S.C.
DESCRIPTION:
URL:https://bnecareers.com/job-fair/job-fair-in-ravenel-s-c-5/
LOCATION:Hardee’s of Ravenel\, 6320 Savannah Hwy\, Ravenal\, 29470
CATEGORIES:Job Fair
END:VEVENT
BEGIN:VEVENT
DTSTART;TZID=America/New_York:20200930T090000
DTEND;TZID=America/New_York:20200930T130000
DTSTAMP:20260421T211653
CREATED:20200921T175857Z
LAST-MODIFIED:20200921T180031Z
UID:15666-1601456400-1601470800@bnecareers.com
SUMMARY:Job Fair in Castle Hayne
DESCRIPTION:
URL:https://bnecareers.com/job-fair/castle-hayne-job-fair/
LOCATION:Castle Hayne in Castle Hayne\, 5601 Castle Hayne Road\, Castle Hayne\, NC\, 28429\, United States
CATEGORIES:Job Fair
END:VEVENT
BEGIN:VEVENT
DTSTART;TZID=America/New_York:20200929T100000
DTEND;TZID=America/New_York:20200929T180000
DTSTAMP:20260421T211653
CREATED:20200921T175539Z
LAST-MODIFIED:20200921T175539Z
UID:15661-1601373600-1601402400@bnecareers.com
SUMMARY:Job Fair in Port Royal\, S.C.
DESCRIPTION:
URL:https://bnecareers.com/job-fair/job-fair-in-port-royal-s-c-4/
LOCATION:Port Royal\, 1450 Ribault Road\, Port Royal\, SC\, 29935\, United States
CATEGORIES:Job Fair
END:VEVENT
BEGIN:VEVENT
DTSTART;TZID=America/New_York:20200929T090000
DTEND;TZID=America/New_York:20200929T170000
DTSTAMP:20260421T211653
CREATED:20200921T175735Z
LAST-MODIFIED:20200921T175735Z
UID:15663-1601370000-1601398800@bnecareers.com
SUMMARY:Job Fair in Wilmington\, N.C.
DESCRIPTION:
URL:https://bnecareers.com/job-fair/job-fair-in-wilmington-n-c-3/
LOCATION:17th Street\, 1970 S. 17th Street\, Wilmington\, NC\, 28401\, United States
CATEGORIES:Job Fair
END:VEVENT
BEGIN:VEVENT
DTSTART;TZID=America/New_York:20200820T140000
DTEND;TZID=America/New_York:20200820T180000
DTSTAMP:20260421T211653
CREATED:20200817T135200Z
LAST-MODIFIED:20200817T135200Z
UID:15643-1597932000-1597946400@bnecareers.com
SUMMARY:Job Fair in Ravenel\, S.C.
DESCRIPTION:Must Apply Online! Walk-in or Call to Schedule an Interview (Ph#. 843-889-6897)
URL:https://bnecareers.com/job-fair/job-fair-in-ravenel-s-c-4/
LOCATION:Hardee’s of Ravenel\, 6320 Savannah Hwy\, Ravenal\, 29470
CATEGORIES:Job Fair
END:VEVENT
BEGIN:VEVENT
DTSTART;TZID=America/New_York:20200819T140000
DTEND;TZID=America/New_York:20200819T180000
DTSTAMP:20260421T211653
CREATED:20200817T135125Z
LAST-MODIFIED:20200817T135125Z
UID:15641-1597845600-1597860000@bnecareers.com
SUMMARY:Job Fair in Ravenel\, S.C.
DESCRIPTION:Must Apply Online! Walk-in or Call to Schedule an Interview (Ph#. 843-889-6897)
URL:https://bnecareers.com/job-fair/job-fair-in-ravenel-s-c-3/
LOCATION:Hardee’s of Ravenel\, 6320 Savannah Hwy\, Ravenal\, 29470
CATEGORIES:Job Fair
END:VEVENT
BEGIN:VEVENT
DTSTART;TZID=America/New_York:20200819T140000
DTEND;TZID=America/New_York:20200819T180000
DTSTAMP:20260421T211653
CREATED:20200817T134935Z
LAST-MODIFIED:20200817T134935Z
UID:15639-1597845600-1597860000@bnecareers.com
SUMMARY:Job Fair in Port Royal\, S.C.
DESCRIPTION:Must Apply Online! Walk-in or Call to Schedule an Interview (Ph#. 843-522-9021)
URL:https://bnecareers.com/job-fair/job-fair-in-port-royal-s-c-3/
LOCATION:Port Royal\, 1450 Ribault Road\, Port Royal\, SC\, 29935\, United States
CATEGORIES:Job Fair
END:VEVENT
BEGIN:VEVENT
DTSTART;TZID=America/New_York:20200818T140000
DTEND;TZID=America/New_York:20200818T180000
DTSTAMP:20260421T211653
CREATED:20200817T134856Z
LAST-MODIFIED:20200817T134856Z
UID:15637-1597759200-1597773600@bnecareers.com
SUMMARY:Job Fair in Port Royal\, S.C.
DESCRIPTION:Must Apply Online! Walk-in or Call to Schedule an Interview (Ph#. 843-522-9021)
URL:https://bnecareers.com/job-fair/job-fair-in-port-royal-s-c-2/
LOCATION:Port Royal\, 1450 Ribault Road\, Port Royal\, SC\, 29935\, United States
CATEGORIES:Job Fair
END:VEVENT
BEGIN:VEVENT
DTSTART;TZID=America/New_York:20200817T140000
DTEND;TZID=America/New_York:20200817T180000
DTSTAMP:20260421T211653
CREATED:20200817T134814Z
LAST-MODIFIED:20200817T134814Z
UID:15634-1597672800-1597687200@bnecareers.com
SUMMARY:Job Fair in Port Royal\, S.C.
DESCRIPTION:Must Apply Online! Walk-in or Call to Schedule an Interview (Ph#. 843-522-9021)
URL:https://bnecareers.com/job-fair/job-fair-in-port-royal-s-c/
LOCATION:Port Royal\, 1450 Ribault Road\, Port Royal\, SC\, 29935\, United States
CATEGORIES:Job Fair
END:VEVENT
BEGIN:VEVENT
DTSTART;TZID=America/New_York:20200811T110000
DTEND;TZID=America/New_York:20200811T170000
DTSTAMP:20260421T211653
CREATED:20200727T175926Z
LAST-MODIFIED:20200727T175926Z
UID:15628-1597143600-1597165200@bnecareers.com
SUMMARY:Job Fair in Norton\, Va.
DESCRIPTION:Hiring for all shifts and positions!
URL:https://bnecareers.com/job-fair/job-fair-in-norton-va/
LOCATION:Norton\, 475 Wharton Lane NE\, Norton\, VA\, 24273\, United States
CATEGORIES:Job Fair
END:VEVENT
BEGIN:VEVENT
DTSTART;TZID=America/New_York:20200723T090000
DTEND;TZID=America/New_York:20200723T170000
DTSTAMP:20260421T211653
CREATED:20200625T152540Z
LAST-MODIFIED:20200625T152540Z
UID:15616-1595494800-1595523600@bnecareers.com
SUMMARY:Management and Crew Job Fair for Saluda\, Va.
DESCRIPTION:
URL:https://bnecareers.com/job-fair/management-and-crew-job-fair-for-saluda-va/
LOCATION:Hardee’s of Saluda\, US 17 and 33\, Saluda\, VA\, United States
CATEGORIES:Job Fair
END:VEVENT
BEGIN:VEVENT
DTSTART;TZID=America/New_York:20200722T090000
DTEND;TZID=America/New_York:20200722T170000
DTSTAMP:20260421T211653
CREATED:20200625T152430Z
LAST-MODIFIED:20200625T152430Z
UID:15614-1595408400-1595437200@bnecareers.com
SUMMARY:Management and Crew Job Fair for Gloucester\, Va.
DESCRIPTION:
URL:https://bnecareers.com/job-fair/management-and-crew-job-fair-for-gloucester-va/
LOCATION:Hardee’s of Shoppes of Gloucester\, 7007 George Washington Memorial Highway\, Gloucester\, VA\, 27061\, United States
CATEGORIES:Job Fair
END:VEVENT
BEGIN:VEVENT
DTSTART;TZID=America/New_York:20200708T100000
DTEND;TZID=America/New_York:20200708T180000
DTSTAMP:20260421T211653
CREATED:20200706T121606Z
LAST-MODIFIED:20200706T121606Z
UID:15624-1594202400-1594231200@bnecareers.com
SUMMARY:Job Fair in Leland\, N.C.
DESCRIPTION:Cooks\, Cashiers\, Biscuit makers and Shift Leaders\nGreat Opportunity for: Senior Citizens\, Adults\, College Students\, Retirees\, Teachers and Teens – Early Day Shifts\, Part time\, Full-time\, Weekends and Evenings. Come Grow with Us\, there are opportunities for growth at any level\, whether an hourly crew member or in management\, when you are part of our Hardee’s Team. \nApply and Check us out at BNECAREERS.COM OR text “JOBS” to 833-600-0506\nCall Hiring Manager to schedule an interview today.\n910-655-0907 \nShift Leaders $11.00 – $13.00\nCashiers $9.50 – $11.00\nCooks & Biscuit makers $9.50 – $11.50\n2nd Assistant Manager $25\,000 and up\n1st Assistant Manager $30\,000 and up \nAlso: Great Opportunities and Benefits\nDay Shift Incentive\nScholarships Opportunity\nFree and Reduces Meals\nFree Uniform – Hat\, Shirt\nFlexible Schedule\n401k\nHealth Insurance\nBenefits and more… Check us out at BNECAREERS.COM \nWork at Shallotte or Supply and receive Gift Card and free transportation\nUp to $150 Visa Card – SUMMER INCENTIVE FOR THESE LOCATIONS:\nCarolina Beach\, Hampstead\, Surf City\, Sneads Ferry\, Ocean Isle Beach\, Supply\, Shallotte\nUp to $150 Visa Card – Special Summer Offer to work at Beach Location & Transportation provided.\nOr\nUp to $150 Visa Card – Special Summer Offer to work at Beach Location & $1.00 more per hour if you have transportation.
URL:https://bnecareers.com/job-fair/job-fair-in-leland-n-c/
LOCATION:Hardee’s of Leland\, 3676 Maco Road\, Leland\, NC\, 28451\, United States
CATEGORIES:Job Fair
END:VEVENT
BEGIN:VEVENT
DTSTART;TZID=America/New_York:20200629T090000
DTEND;TZID=America/New_York:20200629T170000
DTSTAMP:20260421T211653
CREATED:20200625T152701Z
LAST-MODIFIED:20200625T152701Z
UID:15618-1593421200-1593450000@bnecareers.com
SUMMARY:Management and Crew Job Fair for West Point\, Va.
DESCRIPTION:
URL:https://bnecareers.com/job-fair/management-and-crew-job-fair-for-west-point-va/
LOCATION:Hardee’s of West Point\, 323 14th Street\, West Point\, VA\, 23181\, United States
CATEGORIES:Job Fair
END:VEVENT
BEGIN:VEVENT
DTSTART;TZID=America/New_York:20200625T090000
DTEND;TZID=America/New_York:20200625T170000
DTSTAMP:20260421T211653
CREATED:20200624T124458Z
LAST-MODIFIED:20200624T124458Z
UID:15611-1593075600-1593104400@bnecareers.com
SUMMARY:Job Fair in Selma\, N.C.
DESCRIPTION:JOB FAIR\nNow Hiring!  Hardee’s of Selma\nThursday\, June 25\, 2020\n9am to 5pm\nShift Leaders\, Cooks\, Cashiers\, Biscuit Makers\nGreat Opportunity for: Senior Citizens\, Adults\, College Students\, Retirees\, Teachers and Teens – Early Day Shifts\, Part time\, Full-time\, Weekends and Evenings. Come Grow with Us\, there are opportunities for growth at any level\, whether an hourly crew member or in management\, when you are part of our Hardee’s Team.\nApply and Check us out at BNECAREERS.COM OR text “JOBS” to 833-600-0506\nCall Hiring Manager to schedule Interview 919-202-9829 or Welcome to Walk-ins \nGreat Pay:\nShift Leaders $10.00 – $12.00\nCashiers $8.00 – $9.00\nCooks & Biscuit makers $8.50 – $9.50\nAssistant Manager Salary Based Pay \nAlso: Great Opportunities and Benefits\nDay Shift Incentive\nScholarships Opportunity\nFree and Reduces Meals\nFree Uniform – Hat\, Shirt\nFlexible Schedule\n401k\nHealth Insurance\nBenefits and more… Check us out at BNECAREERS.COM
URL:https://bnecareers.com/job-fair/job-fair-in-selma-n-c/
LOCATION:Hardee’s of Selma\, 437 U.S. Hwy. 70\, Selma\, NC\, 27576\, United States
CATEGORIES:Job Fair
END:VEVENT
BEGIN:VEVENT
DTSTART;TZID=America/New_York:20200324T100000
DTEND;TZID=America/New_York:20200324T170000
DTSTAMP:20260421T211653
CREATED:20200304T132120Z
LAST-MODIFIED:20200304T132120Z
UID:15591-1585044000-1585069200@bnecareers.com
SUMMARY:Crew and Management Job Fair in Martinsville\, Va.
DESCRIPTION:Join us for a crew and management job fair in Martinsville! We’ll be hiring for all crew positions\, as well as shift and assistant managers.
URL:https://bnecareers.com/job-fair/crew-and-management-job-fair-in-martinsville-va/
LOCATION:Martinsville\, 901 E. Church St.\, Martinsville\, VA\, 24112\, United States
CATEGORIES:Job Fair
END:VEVENT
BEGIN:VEVENT
DTSTART;TZID=America/New_York:20200319T110000
DTEND;TZID=America/New_York:20200319T180000
DTSTAMP:20260421T211653
CREATED:20200226T192944Z
LAST-MODIFIED:20200226T192944Z
UID:15573-1584615600-1584640800@bnecareers.com
SUMMARY:Crew Job Fair in Roanoke\, Va.
DESCRIPTION:We’ll be hiring for all crew positions and shifts!
URL:https://bnecareers.com/job-fair/crew-job-fair-in-roanoke-va/
LOCATION:Hardee’s on Hershberger\, 3011 Hershberger Road\, Roanoke\, VA\, 24017\, United States
CATEGORIES:Job Fair
END:VEVENT
BEGIN:VEVENT
DTSTART;TZID=America/New_York:20200318T090000
DTEND;TZID=America/New_York:20200318T140000
DTSTAMP:20260421T211653
CREATED:20200303T141409Z
LAST-MODIFIED:20200303T141409Z
UID:15581-1584522000-1584540000@bnecareers.com
SUMMARY:March to Work Job Fair
DESCRIPTION:
URL:https://bnecareers.com/job-fair/march-to-work-job-fair/
LOCATION:Fayetteville Crown Expo Center\, 1960 Coliseum Drive\, Fayetteville\, NC\, 28306\, United States
CATEGORIES:Job Fair
END:VEVENT
END:VCALENDAR