BEGIN:VCALENDAR
VERSION:2.0
PRODID:-//Hardee’s - BNE Careers - ECPv6.3.5//NONSGML v1.0//EN
CALSCALE:GREGORIAN
METHOD:PUBLISH
X-ORIGINAL-URL:https://bnecareers.com
X-WR-CALDESC:Events for Hardee’s - BNE Careers
REFRESH-INTERVAL;VALUE=DURATION:PT1H
X-Robots-Tag:noindex
X-PUBLISHED-TTL:PT1H
BEGIN:VTIMEZONE
TZID:America/New_York
BEGIN:DAYLIGHT
TZOFFSETFROM:-0500
TZOFFSETTO:-0400
TZNAME:EDT
DTSTART:20190310T070000
END:DAYLIGHT
BEGIN:STANDARD
TZOFFSETFROM:-0400
TZOFFSETTO:-0500
TZNAME:EST
DTSTART:20191103T060000
END:STANDARD
BEGIN:DAYLIGHT
TZOFFSETFROM:-0500
TZOFFSETTO:-0400
TZNAME:EDT
DTSTART:20200308T070000
END:DAYLIGHT
BEGIN:STANDARD
TZOFFSETFROM:-0400
TZOFFSETTO:-0500
TZNAME:EST
DTSTART:20201101T060000
END:STANDARD
END:VTIMEZONE
BEGIN:VEVENT
DTSTART;TZID=America/New_York:20200115T140000
DTEND;TZID=America/New_York:20200115T180000
DTSTAMP:20260422T024448
CREATED:20200107T154937Z
LAST-MODIFIED:20200107T154937Z
UID:15531-1579096800-1579111200@bnecareers.com
SUMMARY:Job Fair in Ravenel\, S.C.
DESCRIPTION:Now Hiring \nHardee’s Restaurants \nGreat Opportunity for:\nSenior Citizens\, Adults\, College Students\, Retirees\, Teachers and Teens \nDay Shifts\, Part time\, Full-time\, Weekends and Evenings \nCome Grow with Us\, there are opportunities for growth at any level – whether an hourly crew member or in management – when you are part of our Hardee’s Team \nAll Shifts and Positions\nCooks\, Cashiers\, Biscuit makers and Shift Leaders \nPlease Visit Our Website and Apply Online at BNECAREERS.COM or text ‘JOBS’ TO 833-600-0506
URL:https://bnecareers.com/job-fair/job-fair-in-ravenel-s-c-2/
LOCATION:Hardee’s of Ravenel\, 6320 Savannah Hwy\, Ravenal\, 29470
CATEGORIES:Job Fair
END:VEVENT
BEGIN:VEVENT
DTSTART;TZID=America/New_York:20191210T110000
DTEND;TZID=America/New_York:20191210T170000
DTSTAMP:20260422T024448
CREATED:20191115T131420Z
LAST-MODIFIED:20191122T123715Z
UID:15521-1575975600-1575997200@bnecareers.com
SUMMARY:Crew Job Fair in Pikesville\, KY
DESCRIPTION:
URL:https://bnecareers.com/job-fair/crew-job-fair-in-pikesville-ky/
LOCATION:Hardee’s of Pikeville\, 667 Hambley Blvd\, Pikeville\, KY\, 41501\, United States
CATEGORIES:Job Fair
END:VEVENT
BEGIN:VEVENT
DTSTART;TZID=America/New_York:20191203T100000
DTEND;TZID=America/New_York:20191203T180000
DTSTAMP:20260422T024448
CREATED:20191115T131222Z
LAST-MODIFIED:20191115T131222Z
UID:15518-1575367200-1575396000@bnecareers.com
SUMMARY:Crew and Management Job Fair in Christiansburg\, Va.
DESCRIPTION:
URL:https://bnecareers.com/job-fair/crew-and-management-job-fair-in-christiansburg-va/
LOCATION:Hardee’s of Christiansburg\, 2437 Roanoke Street\, Christiansburg\, VA\, 24073\, United States
CATEGORIES:Job Fair
END:VEVENT
BEGIN:VEVENT
DTSTART;TZID=America/New_York:20191112T100000
DTEND;TZID=America/New_York:20191112T180000
DTSTAMP:20260422T024448
CREATED:20191023T203258Z
LAST-MODIFIED:20191023T203258Z
UID:15495-1573552800-1573581600@bnecareers.com
SUMMARY:Management and Crew Job Fair in Blacksburg\, Va.
DESCRIPTION:Join us Nov. 12 for a management and crew job fair! We’re interviewing for Assistant Managers\, Shift Managers and all crew positions and shifts.
URL:https://bnecareers.com/job-fair/management-and-crew-job-fair-in-blacksburg-va/
LOCATION:904 Prices Fork Road\, 904 Prices Fork Road\, Blacksburg\, VA\, 24060\, United States
END:VEVENT
BEGIN:VEVENT
DTSTART;TZID=America/New_York:20191031T100000
DTEND;TZID=America/New_York:20191031T180000
DTSTAMP:20260422T024448
CREATED:20191030T110930Z
LAST-MODIFIED:20191030T110930Z
UID:15500-1572516000-1572544800@bnecareers.com
SUMMARY:Management and Crew Job Fair in Carolina Beach\, N.C.!
DESCRIPTION:Interviewing on the SPOT! \nWEEKLY! \nWednesday & Thursday\n10:00 am – 6:00 pm \nHardee’s\n254 North Lake Park Boulevard\nCarolina Beach\, NC  28428 \nCurrently Hiring:\nShift Leaders\, Cooks\, Cashiers\, and Biscuit Makers \nStarting pay $10.00 per hour for Crew \nWe offer Great benefits which include: free lunch\, no late-night hours\, and insurance!!!! \nYou Must Apply Online for Management and Crew Opportunities to be Interviewed\nApply at:\nwww.BNECAREERS.com\nor  \nCall 1-910-458-8400\n(to schedule an interview) \nEOE BODDIE NOELL ENTERPRISESA FRANCHISEE OF HARDEE’S LLC
URL:https://bnecareers.com/job-fair/management-and-crew-job-fair-in-carolina-beach-n-c-2/
CATEGORIES:Job Fair
END:VEVENT
BEGIN:VEVENT
DTSTART;TZID=America/New_York:20191030T100000
DTEND;TZID=America/New_York:20191030T180000
DTSTAMP:20260422T024448
CREATED:20191030T110852Z
LAST-MODIFIED:20191030T110852Z
UID:15498-1572429600-1572458400@bnecareers.com
SUMMARY:Management and Crew Job Fair in Carolina Beach\, N.C.!
DESCRIPTION:Interviewing on the SPOT! \nWEEKLY! \nWednesday & Thursday\n10:00 am – 6:00 pm \nHardee’s\n254 North Lake Park Boulevard\nCarolina Beach\, NC  28428 \nCurrently Hiring:\nShift Leaders\, Cooks\, Cashiers\, and Biscuit Makers \nStarting pay $10.00 per hour for Crew \nWe offer Great benefits which include: free lunch\, no late-night hours\, and insurance!!!! \nYou Must Apply Online for Management and Crew Opportunities to be Interviewed\nApply at:\nwww.BNECAREERS.com\nor  \nCall 1-910-458-8400\n(to schedule an interview) \nEOE BODDIE NOELL ENTERPRISESA FRANCHISEE OF HARDEE’S LLC
URL:https://bnecareers.com/job-fair/management-and-crew-job-fair-in-carolina-beach-n-c/
LOCATION:Carolina Beach\, 254 North Lake Park Blvd\, Carolina Beach\, 28428\, United States
CATEGORIES:Job Fair
END:VEVENT
BEGIN:VEVENT
DTSTART;TZID=America/New_York:20191022T090000
DTEND;TZID=America/New_York:20191022T160000
DTSTAMP:20260422T024448
CREATED:20191016T185048Z
LAST-MODIFIED:20191016T185048Z
UID:15402-1571734800-1571760000@bnecareers.com
SUMMARY:Management Job Fair in Yorktown\, Va.
DESCRIPTION:We’ll be interviewing on the spot for hourly and salaried management positions in Hampton\, Newport News\, Williamsburg\, Grafton and Yorktown\, Va.
URL:https://bnecareers.com/job-fair/management-job-fair-in-yorktown-va-2/
LOCATION:Hardee’s of Kiln Creek\, 5001 Victory Blvd\, Yorktown\, VA\, United States
CATEGORIES:Job Fair
END:VEVENT
BEGIN:VEVENT
DTSTART;TZID=America/New_York:20191021T090000
DTEND;TZID=America/New_York:20191021T160000
DTSTAMP:20260422T024448
CREATED:20191016T184932Z
LAST-MODIFIED:20191016T184932Z
UID:15400-1571648400-1571673600@bnecareers.com
SUMMARY:Management Job Fair in Yorktown\, Va.
DESCRIPTION:We’ll be interviewing on the spot for hourly and salaried management positions in Hampton\, Newport News\, Williamsburg\, Grafton and Yorktown\, Va.
URL:https://bnecareers.com/job-fair/management-job-fair-in-yorktown-va/
LOCATION:Hardee’s of Kiln Creek\, 5001 Victory Blvd\, Yorktown\, VA\, United States
END:VEVENT
BEGIN:VEVENT
DTSTART;TZID=America/New_York:20191010T110000
DTEND;TZID=America/New_York:20191010T180000
DTSTAMP:20260422T024448
CREATED:20190924T123442Z
LAST-MODIFIED:20190924T123442Z
UID:15348-1570705200-1570730400@bnecareers.com
SUMMARY:Crew Job Fair in Marion\, Va.
DESCRIPTION:We’ll be interviewing on the spot for all crew positions!
URL:https://bnecareers.com/job-fair/crew-job-fair-in-marion-va/
LOCATION:Hardee’s of Marion\, 347 N. Main Street\, Marion\, VA\, 24354\, United States
END:VEVENT
BEGIN:VEVENT
DTSTART;TZID=America/New_York:20191008T110000
DTEND;TZID=America/New_York:20191008T180000
DTSTAMP:20260422T024448
CREATED:20190917T172317Z
LAST-MODIFIED:20190917T172317Z
UID:15345-1570532400-1570557600@bnecareers.com
SUMMARY:Crew and Management Job Fair in Gastonia\, N.C.
DESCRIPTION:
URL:https://bnecareers.com/job-fair/crew-and-management-job-fair-in-gastonia-n-c/
LOCATION:Hardee’s of York Street\, 1901 South York Road\, Gastonia\, NC\, 28052\, United States
CATEGORIES:Job Fair
END:VEVENT
BEGIN:VEVENT
DTSTART;TZID=America/New_York:20191001T110000
DTEND;TZID=America/New_York:20191001T180000
DTSTAMP:20260422T024448
CREATED:20190917T171850Z
LAST-MODIFIED:20190917T171850Z
UID:15343-1569927600-1569952800@bnecareers.com
SUMMARY:Crew and Management Job Fair for Claremont and Conover\, N.C.
DESCRIPTION:
URL:https://bnecareers.com/job-fair/crew-and-management-job-fair-for-claremont-and-conover-n-c/
LOCATION:Hardee’s of Conover\, 609 Conover Blvd.\, SW\, Conover\, NC\, 28613\, United States
CATEGORIES:Job Fair
END:VEVENT
BEGIN:VEVENT
DTSTART;TZID=America/New_York:20190917T140000
DTEND;TZID=America/New_York:20190917T190000
DTSTAMP:20260422T024448
CREATED:20190905T122954Z
LAST-MODIFIED:20190905T122954Z
UID:15312-1568728800-1568746800@bnecareers.com
SUMMARY:Crew and Management Job Fair in Floyd\, Va.
DESCRIPTION:Join us for a crew and management job fair in Floyd\, Va.! We’ll be interviewing on the spot.
URL:https://bnecareers.com/job-fair/crew-and-management-job-fair-in-floyd-va/
LOCATION:Hardee’s of Floyd\, 402 West Main Street\, Floyd\, VA\, 24091\, United States
END:VEVENT
BEGIN:VEVENT
DTSTART;TZID=America/New_York:20190917T100000
DTEND;TZID=America/New_York:20190917T180000
DTSTAMP:20260422T024448
CREATED:20190911T150933Z
LAST-MODIFIED:20190911T150933Z
UID:15325-1568714400-1568743200@bnecareers.com
SUMMARY:Crew and Management Job Fair in Surf City\, N.C.
DESCRIPTION:Interviewing on the SPOT! \nCurrently Hiring:\nShift Leaders\, Cooks\, Cashiers\, and Biscuit Makers \nStarting pay $10.00 per hour\n$100.00 Bonus after 100 Days of Employment \nWe offer Great benefits which include: free lunch\, no late-night hours\, and insurance!!!! \nYou Must Apply Online for Management and Crew Opportunities to be Interviewed\nApply at:\nwww.BNECAREERS.com\nor  \nCall 1-800-997-1456 \nEOE\nBODDIE NOELL ENTERPRISES\, A FRANCHISEE OF HARDEE’S LLC
URL:https://bnecareers.com/job-fair/crew-and-management-job-fair-in-surf-city-n-c/
LOCATION:Hardee’s of Surf City\, 418 Roland Avenue\, Surf City\, NC\, 28445\, United States
END:VEVENT
BEGIN:VEVENT
DTSTART;TZID=America/New_York:20190912T100000
DTEND;TZID=America/New_York:20190912T180000
DTSTAMP:20260422T024448
CREATED:20190911T185120Z
LAST-MODIFIED:20190911T185120Z
UID:15341-1568282400-1568311200@bnecareers.com
SUMMARY:Crew and Management Job Fair for Shallotte\, N.C.
DESCRIPTION:Interviewing on the SPOT for new restaurant opening in Shallotte! \nCurrently Hiring:\nShift Leaders\, Cooks\, Cashiers\, and Biscuit Makers \nStarting pay $10.00 per hour\n$100.00 Bonus after 100 Days of Employment \nWe offer Great benefits which include: free lunch\, no late-night hours\, and insurance!!!! \nYou Must Apply Online for Management and Crew Opportunities to be Interviewed\nApply at:\nwww.BNECAREERS.com  or  \nCall 1-800-997-1456 \nEOE\nBODDIE NOELL ENTERPRISES\, A FRANCHISEE OF HARDEE’S LLC
URL:https://bnecareers.com/job-fair/crew-and-management-job-fair-for-shallotte-n-c-2/
LOCATION:Hardee’s of Supply\, 5 Ocean Highway East\, Supply\, 28462\, United States
CATEGORIES:Job Fair
END:VEVENT
BEGIN:VEVENT
DTSTART;TZID=America/New_York:20190912T100000
DTEND;TZID=America/New_York:20190912T180000
DTSTAMP:20260422T024448
CREATED:20190911T184648Z
LAST-MODIFIED:20190911T184648Z
UID:15336-1568282400-1568311200@bnecareers.com
SUMMARY:Crew and Management Job Fair in Carolina Beach\, N.C.
DESCRIPTION:Interviewing on the SPOT! \nWEEKLY! \nCurrently Hiring:\nShift Leaders\, Cooks\, Cashiers\, and Biscuit Makers \nStarting pay $10.00 per hour\n$100.00 Bonus after 100 Days of Employment \nWe offer Great benefits which include: free lunch\, no late-night hours\, and insurance!!!! \nYou Must Apply Online for Management and Crew Opportunities to be Interviewed\nApply at:\nwww.BNECAREERS.com\nor  \nCall 1-800-997-1456 \nEOE\nBODDIE NOELL ENTERPRISESA FRANCHISEE OF HARDEE’S LLC
URL:https://bnecareers.com/job-fair/crew-and-management-job-fair-in-carolina-beach-n-c-2/
LOCATION:Carolina Beach\, 254 North Lake Park Blvd\, Carolina Beach\, 28428\, United States
CATEGORIES:Job Fair
END:VEVENT
BEGIN:VEVENT
DTSTART;TZID=America/New_York:20190912T100000
DTEND;TZID=America/New_York:20190912T180000
DTSTAMP:20260422T024448
CREATED:20190911T151130Z
LAST-MODIFIED:20190911T151130Z
UID:15331-1568282400-1568311200@bnecareers.com
SUMMARY:Crew and Management Job Fair in Surf City\, N.C.
DESCRIPTION:Interviewing on the SPOT! \nCurrently Hiring:\nShift Leaders\, Cooks\, Cashiers\, and Biscuit Makers \nStarting pay $10.00 per hour\n$100.00 Bonus after 100 Days of Employment \nWe offer Great benefits which include: free lunch\, no late-night hours\, and insurance!!!! \nYou Must Apply Online for Management and Crew Opportunities to be Interviewed\nApply at:\nwww.BNECAREERS.com\nor  \nCall 1-800-997-1456 \nEOE\nBODDIE NOELL ENTERPRISES\, A FRANCHISEE OF HARDEE’S LLC
URL:https://bnecareers.com/job-fair/crew-and-management-job-fair-in-surf-city-n-c-3/
LOCATION:Hardee’s of Surf City\, 418 Roland Avenue\, Surf City\, NC\, 28445\, United States
CATEGORIES:Job Fair
END:VEVENT
BEGIN:VEVENT
DTSTART;TZID=America/New_York:20190912T100000
DTEND;TZID=America/New_York:20190912T180000
DTSTAMP:20260422T024448
CREATED:20190909T203927Z
LAST-MODIFIED:20190909T203927Z
UID:15321-1568282400-1568311200@bnecareers.com
SUMMARY:Crew and Management Job Fair in Ravenel\, S.C.
DESCRIPTION:Interviewing on the SPOT! \nCurrently Hiring:\nShift Leaders\, Cooks\, Cashiers\, and Biscuit Makers \nStarting pay $10.00 per hour\n$100.00 Bonus after 100 Days of Employment \nWe offer Great benefits which include: free lunch\, no late night hours\, and insurance!!!! \nYou Must Apply Online for Management and Crew Opportunities to be Interviewed\nApply at:\nwww.BNECAREERS.com\nor  \nCall 1-800-997-1456 \nEOE\nBODDIE NOELL ENTERPRISES\nA FRANCHISEE OF HARDEE’S LLC
URL:https://bnecareers.com/job-fair/crew-and-management-job-fair-in-ravenel-s-c-2/
LOCATION:Hardee’s of Ravenel\, 6320 Savannah Hwy\, Ravenal\, 29470
CATEGORIES:Job Fair
END:VEVENT
BEGIN:VEVENT
DTSTART;TZID=America/New_York:20190911T100000
DTEND;TZID=America/New_York:20190911T180000
DTSTAMP:20260422T024448
CREATED:20190911T185038Z
LAST-MODIFIED:20190911T185038Z
UID:15338-1568196000-1568224800@bnecareers.com
SUMMARY:Crew and Management Job Fair for Shallotte\, N.C.
DESCRIPTION:Interviewing on the SPOT for new restaurant opening in Shallotte! \nCurrently Hiring:\nShift Leaders\, Cooks\, Cashiers\, and Biscuit Makers \nStarting pay $10.00 per hour\n$100.00 Bonus after 100 Days of Employment \nWe offer Great benefits which include: free lunch\, no late-night hours\, and insurance!!!! \nYou Must Apply Online for Management and Crew Opportunities to be Interviewed\nApply at:\nwww.BNECAREERS.com  or  \nCall 1-800-997-1456 \nEOE\nBODDIE NOELL ENTERPRISES\, A FRANCHISEE OF HARDEE’S LLC
URL:https://bnecareers.com/job-fair/crew-and-management-job-fair-for-shallotte-n-c/
LOCATION:Hardee’s of Supply\, 5 Ocean Highway East\, Supply\, 28462\, United States
CATEGORIES:Job Fair
END:VEVENT
BEGIN:VEVENT
DTSTART;TZID=America/New_York:20190911T100000
DTEND;TZID=America/New_York:20190911T180000
DTSTAMP:20260422T024448
CREATED:20190911T184558Z
LAST-MODIFIED:20190911T184558Z
UID:15333-1568196000-1568224800@bnecareers.com
SUMMARY:Crew and Management Job Fair in Carolina Beach\, N.C.!
DESCRIPTION:Interviewing on the SPOT! \nWEEKLY! \nCurrently Hiring:\nShift Leaders\, Cooks\, Cashiers\, and Biscuit Makers \nStarting pay $10.00 per hour\n$100.00 Bonus after 100 Days of Employment \nWe offer Great benefits which include: free lunch\, no late-night hours\, and insurance!!!! \nYou Must Apply Online for Management and Crew Opportunities to be Interviewed\nApply at:\nwww.BNECAREERS.com\nor  \nCall 1-800-997-1456 \nEOE\nBODDIE NOELL ENTERPRISESA FRANCHISEE OF HARDEE’S LLC
URL:https://bnecareers.com/job-fair/crew-and-management-job-fair-in-carolina-beach-n-c/
LOCATION:Carolina Beach\, 254 North Lake Park Blvd\, Carolina Beach\, 28428\, United States
CATEGORIES:Job Fair
END:VEVENT
BEGIN:VEVENT
DTSTART;TZID=America/New_York:20190911T100000
DTEND;TZID=America/New_York:20190911T180000
DTSTAMP:20260422T024448
CREATED:20190911T151042Z
LAST-MODIFIED:20190911T151042Z
UID:15329-1568196000-1568224800@bnecareers.com
SUMMARY:Crew and Management Job Fair in Surf City\, N.C.
DESCRIPTION:Interviewing on the SPOT! \nCurrently Hiring:\nShift Leaders\, Cooks\, Cashiers\, and Biscuit Makers \nStarting pay $10.00 per hour\n$100.00 Bonus after 100 Days of Employment \nWe offer Great benefits which include: free lunch\, no late-night hours\, and insurance!!!! \nYou Must Apply Online for Management and Crew Opportunities to be Interviewed\nApply at:\nwww.BNECAREERS.com\nor  \nCall 1-800-997-1456 \nEOE\nBODDIE NOELL ENTERPRISES\, A FRANCHISEE OF HARDEE’S LLC
URL:https://bnecareers.com/job-fair/crew-and-management-job-fair-in-surf-city-n-c-2/
LOCATION:Hardee’s of Surf City\, 418 Roland Avenue\, Surf City\, NC\, 28445\, United States
CATEGORIES:Job Fair
END:VEVENT
BEGIN:VEVENT
DTSTART;TZID=America/New_York:20190911T100000
DTEND;TZID=America/New_York:20190911T180000
DTSTAMP:20260422T024448
CREATED:20190909T203838Z
LAST-MODIFIED:20190909T203838Z
UID:15319-1568196000-1568224800@bnecareers.com
SUMMARY:Crew and Management Job Fair in Ravenel\, S.C.
DESCRIPTION:Interviewing on the SPOT! \nCurrently Hiring:\nShift Leaders\, Cooks\, Cashiers\, and Biscuit Makers \nStarting pay $10.00 per hour\n$100.00 Bonus after 100 Days of Employment \nWe offer Great benefits which include: free lunch\, no late night hours\, and insurance!!!! \nYou Must Apply Online for Management and Crew Opportunities to be Interviewed\nApply at:\nwww.BNECAREERS.com\nor  \nCall 1-800-997-1456 \nEOE\nBODDIE NOELL ENTERPRISES\nA FRANCHISEE OF HARDEE’S LLC
URL:https://bnecareers.com/job-fair/crew-and-management-job-fair-in-ravenel-s-c/
LOCATION:Hardee’s of Ravenel\, 6320 Savannah Hwy\, Ravenal\, 29470
CATEGORIES:Job Fair
END:VEVENT
BEGIN:VEVENT
DTSTART;TZID=America/New_York:20190910T100000
DTEND;TZID=America/New_York:20190910T180000
DTSTAMP:20260422T024448
CREATED:20190909T203748Z
LAST-MODIFIED:20190909T203748Z
UID:15317-1568109600-1568138400@bnecareers.com
SUMMARY:Crew and Management Job Fair in Ravenel\, SC!
DESCRIPTION:Interviewing on the SPOT! \nCurrently Hiring:\nShift Leaders\, Cooks\, Cashiers\, and Biscuit Makers \nStarting pay $10.00 per hour\n$100.00 Bonus after 100 Days of Employment \nWe offer Great benefits which include: free lunch\, no late night hours\, and insurance!!!! \nYou Must Apply Online for Management and Crew Opportunities to be Interviewed\nApply at:\nwww.BNECAREERS.com\nor  \nCall 1-800-997-1456 \nEOE\nBODDIE NOELL ENTERPRISES\nA FRANCHISEE OF HARDEE’S LLC
URL:https://bnecareers.com/job-fair/crew-and-management-job-fair-in-ravenel-sc/
LOCATION:Hardee’s of Ravenel\, 6320 Savannah Hwy\, Ravenal\, 29470
CATEGORIES:Job Fair
END:VEVENT
BEGIN:VEVENT
DTSTART;TZID=America/New_York:20190821T110000
DTEND;TZID=America/New_York:20190821T180000
DTSTAMP:20260422T024448
CREATED:20190801T185448Z
LAST-MODIFIED:20190801T185448Z
UID:15300-1566385200-1566410400@bnecareers.com
SUMMARY:Management and Crew Job Fair in Lincolnton\, N.C.
DESCRIPTION:
URL:https://bnecareers.com/job-fair/management-and-crew-job-fair-in-lincolnton-n-c/
LOCATION:Hardee’s of Lincolton\, 1102 East Main Street\, Lincolnton\, NC\, 28092\, United States
END:VEVENT
BEGIN:VEVENT
DTSTART;TZID=America/New_York:20190801T110000
DTEND;TZID=America/New_York:20190801T180000
DTSTAMP:20260422T024448
CREATED:20190710T201336Z
LAST-MODIFIED:20190710T201336Z
UID:15218-1564657200-1564682400@bnecareers.com
SUMMARY:Management and Crew Job Fair in Denver\, N.C.
DESCRIPTION:
URL:https://bnecareers.com/job-fair/management-and-crew-job-fair-in-denver-n-c/
LOCATION:Hardee’s of Denver\, 6090 Highway 16 N\, Denver\, NC\, 28037\, United States
END:VEVENT
BEGIN:VEVENT
DTSTART;TZID=America/New_York:20190731T110000
DTEND;TZID=America/New_York:20190731T180000
DTSTAMP:20260422T024448
CREATED:20190710T201243Z
LAST-MODIFIED:20190710T201243Z
UID:15215-1564570800-1564596000@bnecareers.com
SUMMARY:Management and Crew Job Fair in Prestonburg\, KY
DESCRIPTION:
URL:https://bnecareers.com/job-fair/management-and-crew-job-fair-in-prestonburg-ky/
LOCATION:Hardee’s of Prestonburg\, 909 North Lake Drive\, Prestonburg\, KY\, 41653\, United States
CATEGORIES:Job Fair
END:VEVENT
BEGIN:VEVENT
DTSTART;TZID=America/New_York:20190620T090000
DTEND;TZID=America/New_York:20190620T170000
DTSTAMP:20260422T024448
CREATED:20190605T140653Z
LAST-MODIFIED:20190617T173045Z
UID:15184-1561021200-1561050000@bnecareers.com
SUMMARY:Crew Job Fair for Claypool Hill
DESCRIPTION:Join us June 18-20 for a crew job fair for our Claypool Hill store! We’ll be interviewing from 9 a.m. to 5 p.m. each day at the Heritage Hall Building at Southwest Virginia Community College.
URL:https://bnecareers.com/job-fair/crew-job-fair-for-richlands-va-3/
LOCATION:Southwest Virginia Community College\, Heritage Hall Building\, 635 Community College Rd\, Cedar Bluff\, VA\, 24609\, United States
CATEGORIES:Job Fair
END:VEVENT
BEGIN:VEVENT
DTSTART;TZID=America/New_York:20190619T090000
DTEND;TZID=America/New_York:20190619T170000
DTSTAMP:20260422T024448
CREATED:20190605T140459Z
LAST-MODIFIED:20190612T121559Z
UID:15182-1560934800-1560963600@bnecareers.com
SUMMARY:Crew Job Fair for Claypool Hill
DESCRIPTION:Join us June 18-20 for a crew job fair for our Claypool Hill store! We’ll be interviewing from 9 a.m. to 5 p.m. each day at the Heritage Hall Building at Southwest Virginia Community College.
URL:https://bnecareers.com/job-fair/crew-job-fair-for-claypoolhill-2/
LOCATION:Southwest Virginia Community College\, Heritage Hall Building\, 635 Community College Rd\, Cedar Bluff\, VA\, 24609\, United States
END:VEVENT
BEGIN:VEVENT
DTSTART;TZID=America/New_York:20190618T090000
DTEND;TZID=America/New_York:20190618T170000
DTSTAMP:20260422T024448
CREATED:20190605T140414Z
LAST-MODIFIED:20190612T121638Z
UID:15179-1560848400-1560877200@bnecareers.com
SUMMARY:Crew Job Fair for Claypool Hill
DESCRIPTION:Join us June 18-20 for a crew job fair for our Claypool Hill store! We’ll be interviewing from 9 a.m. to 5 p.m. each day at the Heritage Hall Building at Southwest Virginia Community College.
URL:https://bnecareers.com/job-fair/crew-job-fair-for-claypoolhill-va/
LOCATION:Southwest Virginia Community College\, Heritage Hall Building\, 635 Community College Rd\, Cedar Bluff\, VA\, 24609\, United States
CATEGORIES:Job Fair
END:VEVENT
BEGIN:VEVENT
DTSTART;TZID=America/New_York:20190611T100000
DTEND;TZID=America/New_York:20190611T140000
DTSTAMP:20260422T024449
CREATED:20190605T141135Z
LAST-MODIFIED:20190605T141135Z
UID:15186-1560247200-1560261600@bnecareers.com
SUMMARY:Crew and Management Job Fair for Shalotte and Ocean Isle\, N.C.
DESCRIPTION:Join us June 11 for a crew and management job fair for Shalotte and Ocean Isle area Hardee’s! We’ll be interviewing on the spot from 10 a.m. to 2 p.m. at the NCWorks Career Center in Shallote!
URL:https://bnecareers.com/job-fair/crew-and-management-job-fair-for-shalotte-and-ocean-isle-n-c/
LOCATION:NC Works Career Center\, 5300-7 Main Street\, Shalotte\, NC\, 28470\, United States
CATEGORIES:Job Fair
END:VEVENT
BEGIN:VEVENT
DTSTART;TZID=America/New_York:20190605T110000
DTEND;TZID=America/New_York:20190605T180000
DTSTAMP:20260422T024449
CREATED:20190425T124438Z
LAST-MODIFIED:20190425T124438Z
UID:15150-1559732400-1559757600@bnecareers.com
SUMMARY:Management and Crew Job Fair for Kannapolis and Concord Hardee's
DESCRIPTION:Join us for a management and crew job fair for our Hardee’s locations in Kannapolis and Concord. We’ll be interviewing on the spot!
URL:https://bnecareers.com/job-fair/management-and-crew-job-fair-for-kannapolis-and-concord-hardees/
LOCATION:Hardee’s of Kannapolis #1\, 611 Jackson Park Road\, Kannapolis\, NC\, 28083\, United States
END:VEVENT
END:VCALENDAR