BEGIN:VCALENDAR
VERSION:2.0
PRODID:-//Hardee’s - BNE Careers - ECPv6.3.5//NONSGML v1.0//EN
CALSCALE:GREGORIAN
METHOD:PUBLISH
X-WR-CALNAME:Hardee’s - BNE Careers
X-ORIGINAL-URL:https://bnecareers.com
X-WR-CALDESC:Events for Hardee’s - BNE Careers
REFRESH-INTERVAL;VALUE=DURATION:PT1H
X-Robots-Tag:noindex
X-PUBLISHED-TTL:PT1H
BEGIN:VTIMEZONE
TZID:America/New_York
BEGIN:DAYLIGHT
TZOFFSETFROM:-0500
TZOFFSETTO:-0400
TZNAME:EDT
DTSTART:20180311T070000
END:DAYLIGHT
BEGIN:STANDARD
TZOFFSETFROM:-0400
TZOFFSETTO:-0500
TZNAME:EST
DTSTART:20181104T060000
END:STANDARD
BEGIN:DAYLIGHT
TZOFFSETFROM:-0500
TZOFFSETTO:-0400
TZNAME:EDT
DTSTART:20190310T070000
END:DAYLIGHT
BEGIN:STANDARD
TZOFFSETFROM:-0400
TZOFFSETTO:-0500
TZNAME:EST
DTSTART:20191103T060000
END:STANDARD
END:VTIMEZONE
BEGIN:VEVENT
DTSTART;TZID=America/New_York:20190911T100000
DTEND;TZID=America/New_York:20190911T180000
DTSTAMP:20260422T053115
CREATED:20190909T203838Z
LAST-MODIFIED:20190909T203838Z
UID:15319-1568196000-1568224800@bnecareers.com
SUMMARY:Crew and Management Job Fair in Ravenel\, S.C.
DESCRIPTION:Interviewing on the SPOT! \nCurrently Hiring:\nShift Leaders\, Cooks\, Cashiers\, and Biscuit Makers \nStarting pay $10.00 per hour\n$100.00 Bonus after 100 Days of Employment \nWe offer Great benefits which include: free lunch\, no late night hours\, and insurance!!!! \nYou Must Apply Online for Management and Crew Opportunities to be Interviewed\nApply at:\nwww.BNECAREERS.com\nor  \nCall 1-800-997-1456 \nEOE\nBODDIE NOELL ENTERPRISES\nA FRANCHISEE OF HARDEE’S LLC
URL:https://bnecareers.com/job-fair/crew-and-management-job-fair-in-ravenel-s-c/
LOCATION:Hardee’s of Ravenel\, 6320 Savannah Hwy\, Ravenal\, 29470
CATEGORIES:Job Fair
END:VEVENT
BEGIN:VEVENT
DTSTART;TZID=America/New_York:20190910T100000
DTEND;TZID=America/New_York:20190910T180000
DTSTAMP:20260422T053115
CREATED:20190909T203748Z
LAST-MODIFIED:20190909T203748Z
UID:15317-1568109600-1568138400@bnecareers.com
SUMMARY:Crew and Management Job Fair in Ravenel\, SC!
DESCRIPTION:Interviewing on the SPOT! \nCurrently Hiring:\nShift Leaders\, Cooks\, Cashiers\, and Biscuit Makers \nStarting pay $10.00 per hour\n$100.00 Bonus after 100 Days of Employment \nWe offer Great benefits which include: free lunch\, no late night hours\, and insurance!!!! \nYou Must Apply Online for Management and Crew Opportunities to be Interviewed\nApply at:\nwww.BNECAREERS.com\nor  \nCall 1-800-997-1456 \nEOE\nBODDIE NOELL ENTERPRISES\nA FRANCHISEE OF HARDEE’S LLC
URL:https://bnecareers.com/job-fair/crew-and-management-job-fair-in-ravenel-sc/
LOCATION:Hardee’s of Ravenel\, 6320 Savannah Hwy\, Ravenal\, 29470
CATEGORIES:Job Fair
END:VEVENT
BEGIN:VEVENT
DTSTART;TZID=America/New_York:20190821T110000
DTEND;TZID=America/New_York:20190821T180000
DTSTAMP:20260422T053115
CREATED:20190801T185448Z
LAST-MODIFIED:20190801T185448Z
UID:15300-1566385200-1566410400@bnecareers.com
SUMMARY:Management and Crew Job Fair in Lincolnton\, N.C.
DESCRIPTION:
URL:https://bnecareers.com/job-fair/management-and-crew-job-fair-in-lincolnton-n-c/
LOCATION:Hardee’s of Lincolton\, 1102 East Main Street\, Lincolnton\, NC\, 28092\, United States
END:VEVENT
BEGIN:VEVENT
DTSTART;TZID=America/New_York:20190801T110000
DTEND;TZID=America/New_York:20190801T180000
DTSTAMP:20260422T053115
CREATED:20190710T201336Z
LAST-MODIFIED:20190710T201336Z
UID:15218-1564657200-1564682400@bnecareers.com
SUMMARY:Management and Crew Job Fair in Denver\, N.C.
DESCRIPTION:
URL:https://bnecareers.com/job-fair/management-and-crew-job-fair-in-denver-n-c/
LOCATION:Hardee’s of Denver\, 6090 Highway 16 N\, Denver\, NC\, 28037\, United States
END:VEVENT
BEGIN:VEVENT
DTSTART;TZID=America/New_York:20190731T110000
DTEND;TZID=America/New_York:20190731T180000
DTSTAMP:20260422T053115
CREATED:20190710T201243Z
LAST-MODIFIED:20190710T201243Z
UID:15215-1564570800-1564596000@bnecareers.com
SUMMARY:Management and Crew Job Fair in Prestonburg\, KY
DESCRIPTION:
URL:https://bnecareers.com/job-fair/management-and-crew-job-fair-in-prestonburg-ky/
LOCATION:Hardee’s of Prestonburg\, 909 North Lake Drive\, Prestonburg\, KY\, 41653\, United States
CATEGORIES:Job Fair
END:VEVENT
BEGIN:VEVENT
DTSTART;TZID=America/New_York:20190620T090000
DTEND;TZID=America/New_York:20190620T170000
DTSTAMP:20260422T053115
CREATED:20190605T140653Z
LAST-MODIFIED:20190617T173045Z
UID:15184-1561021200-1561050000@bnecareers.com
SUMMARY:Crew Job Fair for Claypool Hill
DESCRIPTION:Join us June 18-20 for a crew job fair for our Claypool Hill store! We’ll be interviewing from 9 a.m. to 5 p.m. each day at the Heritage Hall Building at Southwest Virginia Community College.
URL:https://bnecareers.com/job-fair/crew-job-fair-for-richlands-va-3/
LOCATION:Southwest Virginia Community College\, Heritage Hall Building\, 635 Community College Rd\, Cedar Bluff\, VA\, 24609\, United States
CATEGORIES:Job Fair
END:VEVENT
BEGIN:VEVENT
DTSTART;TZID=America/New_York:20190619T090000
DTEND;TZID=America/New_York:20190619T170000
DTSTAMP:20260422T053115
CREATED:20190605T140459Z
LAST-MODIFIED:20190612T121559Z
UID:15182-1560934800-1560963600@bnecareers.com
SUMMARY:Crew Job Fair for Claypool Hill
DESCRIPTION:Join us June 18-20 for a crew job fair for our Claypool Hill store! We’ll be interviewing from 9 a.m. to 5 p.m. each day at the Heritage Hall Building at Southwest Virginia Community College.
URL:https://bnecareers.com/job-fair/crew-job-fair-for-claypoolhill-2/
LOCATION:Southwest Virginia Community College\, Heritage Hall Building\, 635 Community College Rd\, Cedar Bluff\, VA\, 24609\, United States
END:VEVENT
BEGIN:VEVENT
DTSTART;TZID=America/New_York:20190618T090000
DTEND;TZID=America/New_York:20190618T170000
DTSTAMP:20260422T053115
CREATED:20190605T140414Z
LAST-MODIFIED:20190612T121638Z
UID:15179-1560848400-1560877200@bnecareers.com
SUMMARY:Crew Job Fair for Claypool Hill
DESCRIPTION:Join us June 18-20 for a crew job fair for our Claypool Hill store! We’ll be interviewing from 9 a.m. to 5 p.m. each day at the Heritage Hall Building at Southwest Virginia Community College.
URL:https://bnecareers.com/job-fair/crew-job-fair-for-claypoolhill-va/
LOCATION:Southwest Virginia Community College\, Heritage Hall Building\, 635 Community College Rd\, Cedar Bluff\, VA\, 24609\, United States
CATEGORIES:Job Fair
END:VEVENT
BEGIN:VEVENT
DTSTART;TZID=America/New_York:20190611T100000
DTEND;TZID=America/New_York:20190611T140000
DTSTAMP:20260422T053115
CREATED:20190605T141135Z
LAST-MODIFIED:20190605T141135Z
UID:15186-1560247200-1560261600@bnecareers.com
SUMMARY:Crew and Management Job Fair for Shalotte and Ocean Isle\, N.C.
DESCRIPTION:Join us June 11 for a crew and management job fair for Shalotte and Ocean Isle area Hardee’s! We’ll be interviewing on the spot from 10 a.m. to 2 p.m. at the NCWorks Career Center in Shallote!
URL:https://bnecareers.com/job-fair/crew-and-management-job-fair-for-shalotte-and-ocean-isle-n-c/
LOCATION:NC Works Career Center\, 5300-7 Main Street\, Shalotte\, NC\, 28470\, United States
CATEGORIES:Job Fair
END:VEVENT
BEGIN:VEVENT
DTSTART;TZID=America/New_York:20190605T110000
DTEND;TZID=America/New_York:20190605T180000
DTSTAMP:20260422T053115
CREATED:20190425T124438Z
LAST-MODIFIED:20190425T124438Z
UID:15150-1559732400-1559757600@bnecareers.com
SUMMARY:Management and Crew Job Fair for Kannapolis and Concord Hardee's
DESCRIPTION:Join us for a management and crew job fair for our Hardee’s locations in Kannapolis and Concord. We’ll be interviewing on the spot!
URL:https://bnecareers.com/job-fair/management-and-crew-job-fair-for-kannapolis-and-concord-hardees/
LOCATION:Hardee’s of Kannapolis #1\, 611 Jackson Park Road\, Kannapolis\, NC\, 28083\, United States
END:VEVENT
BEGIN:VEVENT
DTSTART;TZID=America/New_York:20190604T110000
DTEND;TZID=America/New_York:20190604T170000
DTSTAMP:20260422T053115
CREATED:20190508T171325Z
LAST-MODIFIED:20190508T171336Z
UID:15165-1559646000-1559667600@bnecareers.com
SUMMARY:Management and Crew Job Fair in Clintwood\, Va.
DESCRIPTION:Join us for a management and crew job fair at Hardee’s of Clintwood! We’ll be hiring for all crew positions and shifts\, as well as shift managers!
URL:https://bnecareers.com/job-fair/management-and-crew-job-fair/
LOCATION:Hardee’s of Clintwood\, 5012 Dickerson Highway\, Clintwood\, VA\, 24228\, United States
CATEGORIES:Job Fair
END:VEVENT
BEGIN:VEVENT
DTSTART;TZID=America/New_York:20190523T100000
DTEND;TZID=America/New_York:20190523T180000
DTSTAMP:20260422T053115
CREATED:20190513T133704Z
LAST-MODIFIED:20190513T200602Z
UID:15174-1558605600-1558634400@bnecareers.com
SUMMARY:Management Job Fair for Richmond\, Va.
DESCRIPTION:Join us for a job fair in Richmond! We’ll be hiring for managers for 12 of our Richmond-area Hardee’s!
URL:https://bnecareers.com/job-fair/job-fair-for-richmond-va/
LOCATION:Boddie-Noell Region 3 Office\, 4801 Jefferson Davis Highway\, Richmond\, VA\, 23234\, United States
END:VEVENT
BEGIN:VEVENT
DTSTART;TZID=America/New_York:20190522T110000
DTEND;TZID=America/New_York:20190522T180000
DTSTAMP:20260422T053116
CREATED:20190425T124823Z
LAST-MODIFIED:20190425T124951Z
UID:15153-1558522800-1558548000@bnecareers.com
SUMMARY:Management and Crew Job Fair for New River Valley Area
DESCRIPTION:Join us for a management and crew job fair for the New River Valley area\, specifically our Hardee’s restaurants in Christiansburg\, Blacksburg\, Pulaski\, Pearisburg\, Dublin and Radford.
URL:https://bnecareers.com/job-fair/management-and-crew-job-fair-for-north-river-valley-area/
LOCATION:Hardee’s in Christiansburg 460\, 2880 Market Street\, Christiansburg\, VA\, 24073\, United States
CATEGORIES:Job Fair
END:VEVENT
BEGIN:VEVENT
DTSTART;TZID=America/New_York:20190516T110000
DTEND;TZID=America/New_York:20190516T180000
DTSTAMP:20260422T053116
CREATED:20190425T124151Z
LAST-MODIFIED:20190425T124151Z
UID:15147-1558004400-1558029600@bnecareers.com
SUMMARY:Management and Crew Job fair for Lowell\, Belmont and Gastonia
DESCRIPTION:Join us for a management and crew job fair for Lowell\, Belmont and Gastonia Hardee’s!
URL:https://bnecareers.com/job-fair/management-and-crew-job-fair-for-lowell-belmont-and-gastonia/
LOCATION:Hardee’s of Lowell\, 716 McAdenville Road\, Lowell\, NC\, 28098\, United States
END:VEVENT
BEGIN:VEVENT
DTSTART;TZID=America/New_York:20190509T090000
DTEND;TZID=America/New_York:20190509T180000
DTSTAMP:20260422T053116
CREATED:20190501T184117Z
LAST-MODIFIED:20190502T134800Z
UID:15161-1557392400-1557424800@bnecareers.com
SUMMARY:Management Job Fair for Chesapeake\, Va. Area
DESCRIPTION:Join us for a management job fair! We’re currently hiring for hourly and salaried managers. We offer medical/dental/vision\, sick/holiday/vacation pay\, 401K and education reimbursement. If you’re unable to attend the job fair but still interested\, email your resume to melissamartin@boddienoell.com.
URL:https://bnecareers.com/job-fair/management-job-fair-2/
LOCATION:Hardee’s of Battlefield\, 1029 Battlefield Blvd\, Chesapeake\, VA\, United States
CATEGORIES:Job Fair
END:VEVENT
BEGIN:VEVENT
DTSTART;TZID=America/New_York:20190508T090000
DTEND;TZID=America/New_York:20190508T180000
DTSTAMP:20260422T053116
CREATED:20190501T184018Z
LAST-MODIFIED:20190502T134658Z
UID:15159-1557306000-1557338400@bnecareers.com
SUMMARY:Management Job Fair for Virginia Beach Area
DESCRIPTION:Join us for a management job fair! We’re currently hiring for hourly and salaried managers. We offer medical/dental/vision\, sick/holiday/vacation pay\, 401K and education reimbursement. If you’re unable to attend the job fair but still interested\, email your resume to melissamartin@boddienoell.com.
URL:https://bnecareers.com/job-fair/management-job-fair/
LOCATION:Hardee’s of Independence Blvd.\, 701 Independence Blvd.\, Virginia Beach\, VA\, 23455\, United States
END:VEVENT
BEGIN:VEVENT
DTSTART;TZID=America/New_York:20190502T090000
DTEND;TZID=America/New_York:20190502T170000
DTSTAMP:20260422T053116
CREATED:20190430T135422Z
LAST-MODIFIED:20190430T135422Z
UID:15156-1556787600-1556816400@bnecareers.com
SUMMARY:Management and Crew Job Fair in Wilmington\, N.C.
DESCRIPTION:That’s right! Come work with us and you can butter our biscuits\, chat up our guests or even cook up some smiles! \n•	Starting Pay $9.00 per hour\n•	$300.00 Summer Bonus Opportunity\n•	Bus Pass Opportunity\n•	Day Shift Incentive\n•	Scholarships Opportunity\n•	Meal Allowance\n•	Flexible Schedule Hours\n•	Full-time\, Part-time\, Seasonal\n•	Benefits and more… \nWalk-ins welcome!  You may apply at the Hardees and interview on the spot.
URL:https://bnecareers.com/job-fair/management-and-crew-job-fair-in-wilmington-n-c/
LOCATION:Hardee’s Highway 421\, 2518 Carolina Beach Road\, Wilmington\, NC\, 28401\, United States
END:VEVENT
BEGIN:VEVENT
DTSTART;TZID=America/New_York:20190417T100000
DTEND;TZID=America/New_York:20190417T180000
DTSTAMP:20260422T053116
CREATED:20190328T114213Z
LAST-MODIFIED:20190409T110304Z
UID:15130-1555495200-1555524000@bnecareers.com
SUMMARY:Crew and Management Job Fair for Roanoke\, Lynchburg and Christiansburg
DESCRIPTION:We are having a mass job fair for the Roanoke\, Lynchburg\, and Christiansburg areas.  We will be hiring for all crew positions\,  shift managers\, and assistant managers.
URL:https://bnecareers.com/job-fair/crew-and-management-job-fair-for-roanoke-lynchburg-and-christiansburg/
LOCATION:Brambleton Center\, 3738 Brambelton Ave. SW\, Roanoke\, VA\, 24018\, United States
END:VEVENT
BEGIN:VEVENT
DTSTART;TZID=America/New_York:20190417T100000
DTEND;TZID=America/New_York:20190417T170000
DTSTAMP:20260422T053116
CREATED:20190404T120624Z
LAST-MODIFIED:20190404T120624Z
UID:15143-1555495200-1555520400@bnecareers.com
SUMMARY:Crew Job Fair in Fredericksburg\, Va.
DESCRIPTION:Join us for a crew job far at our Princess Anne Hardee’s in Fredericksburg! We’ll be interviewing on the spot for crew positions.
URL:https://bnecareers.com/job-fair/crew-job-fair-in-fredericksburg-va/
LOCATION:Hardee’s of Princess Anne\, 1700 Princess Anne Street\, Fredericksburg\, VA\, 22401\, United States
END:VEVENT
BEGIN:VEVENT
DTSTART;TZID=America/New_York:20190416T090000
DTEND;TZID=America/New_York:20190416T170000
DTSTAMP:20260422T053116
CREATED:20190404T115920Z
LAST-MODIFIED:20190404T115920Z
UID:15141-1555405200-1555434000@bnecareers.com
SUMMARY:Crew Job Fair in Saluda\, Va.
DESCRIPTION:Join us for a crew job fair in Saluda! We’ll be interviewing on the spot for crew positions.
URL:https://bnecareers.com/job-fair/crew-job-fair-in-saluda-va/
LOCATION:Hardee’s of Saluda\, US 17 and 33\, Saluda\, VA\, United States
END:VEVENT
BEGIN:VEVENT
DTSTART;TZID=America/New_York:20190327T100000
DTEND;TZID=America/New_York:20190327T160000
DTSTAMP:20260422T053116
CREATED:20190307T130216Z
LAST-MODIFIED:20190307T130216Z
UID:15119-1553680800-1553702400@bnecareers.com
SUMMARY:Management Job Fair for Hardee's in Richlands and Claypool Hill
DESCRIPTION:Join us for a management job fair for our Hardee’s in Richalnds and our new Hardee’s in Claypool Hill! We’ll be hiring for shift managers.
URL:https://bnecareers.com/job-fair/management-job-fair-for-hardees-in-richlands-and-claypool-hill/
LOCATION:Hardee’s of Richlands\, 2020 Second Street\, Richlands\, VA\, 24641\, United States
END:VEVENT
BEGIN:VEVENT
DTSTART;TZID=America/New_York:20190320T090000
DTEND;TZID=America/New_York:20190320T140000
DTSTAMP:20260422T053116
CREATED:20190130T160616Z
LAST-MODIFIED:20190130T160616Z
UID:15097-1553072400-1553090400@bnecareers.com
SUMMARY:Job Fair in Fayetteville\, N.C.
DESCRIPTION:Join us at the Fayetteville Crown Expo Center for a job fair!
URL:https://bnecareers.com/job-fair/job-fair-in-fayetteville-n-c/
LOCATION:Fayetteville Crown Expo Center\, 1960 Coliseum Drive\, Fayetteville\, NC\, 28306\, United States
CATEGORIES:Job Fair
END:VEVENT
BEGIN:VEVENT
DTSTART;TZID=America/New_York:20190212T140000
DTEND;TZID=America/New_York:20190212T180000
DTSTAMP:20260422T053116
CREATED:20190130T160220Z
LAST-MODIFIED:20190130T160220Z
UID:15095-1549980000-1549994400@bnecareers.com
SUMMARY:Job Fair in Ravenel\, S.C.
DESCRIPTION:Join us for a job fair in Ravenel! You must apply online before the job fair. Walk in or call to schedule an interview at 843-889-6897.
URL:https://bnecareers.com/job-fair/job-fair-in-ravenel-s-c/
LOCATION:Hardee’s of Ravenel\, 6320 Savannah Hwy\, Ravenal\, 29470
CATEGORIES:Job Fair
END:VEVENT
BEGIN:VEVENT
DTSTART;TZID=America/New_York:20190130T100000
DTEND;TZID=America/New_York:20190130T180000
DTSTAMP:20260422T053116
CREATED:20190117T194545Z
LAST-MODIFIED:20190117T194545Z
UID:15085-1548842400-1548871200@bnecareers.com
SUMMARY:Management and Crew Job Fair for Blackstone and Crewe
DESCRIPTION:Join us for a management and crew job fair\, Wednesday\, Jan. 30 at our Blackstone store. We’ll be interviewing for all positions in both the Blackstone and Crewe stores.
URL:https://bnecareers.com/job-fair/management-and-crew-job-fair-for-blackstone-and-crewe/
LOCATION:Hardee’s of Blackstone\, 203 N. Main Street\, Blackstone\, VA\, 23824\, United States
CATEGORIES:Job Fair
END:VEVENT
BEGIN:VEVENT
DTSTART;TZID=America/New_York:20181206T090000
DTEND;TZID=America/New_York:20181206T180000
DTSTAMP:20260422T053116
CREATED:20181115T141218Z
LAST-MODIFIED:20181115T141218Z
UID:15057-1544086800-1544119200@bnecareers.com
SUMMARY:Hampton Roads Management Job Fair
DESCRIPTION:Please join us for a management job fair at our Kiln Creek store. We will be hiring for locations in Hampton\, Newport News\, Williamsburg and Yorktown. We’ll be interviewing on the spot.
URL:https://bnecareers.com/job-fair/hampton-roads-management-job-fair/
LOCATION:Hardee’s of Kiln Creek\, 5001 Victory Blvd\, Yorktown\, VA\, United States
END:VEVENT
BEGIN:VEVENT
DTSTART;TZID=America/New_York:20181115T090000
DTEND;TZID=America/New_York:20181115T180000
DTSTAMP:20260422T053116
CREATED:20181106T203148Z
LAST-MODIFIED:20181106T203148Z
UID:15052-1542272400-1542304800@bnecareers.com
SUMMARY:Management Job Fair for Onley\, Exmore and Cape Charles Area Hardee's
DESCRIPTION:Stop by or pre-apply online. If you are unable to attend\, email your resume to melissamartin@boddienoell.com
URL:https://bnecareers.com/job-fair/management-job-fair-for-onley-exmore-and-cape-charles-area-hardees/
LOCATION:Hampton Inn Exmore\, 4129 Lankford Highway\, Exmore\, VA\, 23350\, United States
END:VEVENT
BEGIN:VEVENT
DTSTART;TZID=America/New_York:20181115T090000
DTEND;TZID=America/New_York:20181115T180000
DTSTAMP:20260422T053116
CREATED:20181106T202728Z
LAST-MODIFIED:20181106T202728Z
UID:15049-1542272400-1542304800@bnecareers.com
SUMMARY:Management Job Fair for Virginia Beach Area Hardee's
DESCRIPTION:Stop by to be interviewed and/or pre-apply online. If you are unable to attend\, email your resume to melissamartin@boddienoell.com.
URL:https://bnecareers.com/job-fair/management-job-fair-for-virginia-beach-area-hardees-2/
LOCATION:Crowne Plaza\, 4453 Bonney Road\, Virginia Beach\, VA\, 23462\, United States
END:VEVENT
BEGIN:VEVENT
DTSTART;TZID=America/New_York:20181106T100000
DTEND;TZID=America/New_York:20181106T180000
DTSTAMP:20260422T053116
CREATED:20181019T124803Z
LAST-MODIFIED:20181019T124902Z
UID:15042-1541498400-1541527200@bnecareers.com
SUMMARY:Crew and Management Job Fair in Denver\, N.C.
DESCRIPTION:Hiring for all crew position and all shifts\, shift leaders and an assistant manager! All who attend will be interviewed! Offering full benefits\, flexible scheduling\, discounted meals and MORE! Apply in advance at www.bnecareers.com   \nEOE
URL:https://bnecareers.com/job-fair/crew-and-management-job-fair-in-denver-n-c/
LOCATION:Hardee’s of Denver\, 6090 Highway 16 N\, Denver\, NC\, 28037\, United States
END:VEVENT
BEGIN:VEVENT
DTSTART;TZID=America/New_York:20181025T100000
DTEND;TZID=America/New_York:20181025T160000
DTSTAMP:20260422T053116
CREATED:20181005T181008Z
LAST-MODIFIED:20181019T124246Z
UID:15036-1540461600-1540483200@bnecareers.com
SUMMARY:Crew Job Fair for Midlothian Area
DESCRIPTION:We’ll be interviewing for crew for: Midlothian Pike\, Harbour Pointe\, Highway 360 West and Midlothian.
URL:https://bnecareers.com/job-fair/crew-job-fair-for-midlotian-area/
CATEGORIES:Job Fair
END:VEVENT
BEGIN:VEVENT
DTSTART;TZID=America/New_York:20181018T100000
DTEND;TZID=America/New_York:20181018T180000
DTSTAMP:20260422T053116
CREATED:20181005T201450Z
LAST-MODIFIED:20181005T201450Z
UID:15038-1539856800-1539885600@bnecareers.com
SUMMARY:Crew Job Fair for the Conover Area
DESCRIPTION:Hardee’s is hiring for all crew positions for the Conover\, Claremont and Denver area. Come prepared to interview. \nGreat benefits: Medical\, Dental & Vision; Sick\, Vacation & Holiday pay.\nPrequalify in advance at www.bnecareers.com or you are also welcome to apply in person. EOE
URL:https://bnecareers.com/job-fair/crew-job-fair-for-the-conover-area/
LOCATION:Hardee’s of Conover\, 609 Conover Blvd.\, SW\, Conover\, NC\, 28613\, United States
CATEGORIES:Job Fair
END:VEVENT
END:VCALENDAR