BEGIN:VCALENDAR
VERSION:2.0
PRODID:-//Hardee’s - BNE Careers - ECPv6.3.5//NONSGML v1.0//EN
CALSCALE:GREGORIAN
METHOD:PUBLISH
X-ORIGINAL-URL:https://bnecareers.com
X-WR-CALDESC:Events for Hardee’s - BNE Careers
REFRESH-INTERVAL;VALUE=DURATION:PT1H
X-Robots-Tag:noindex
X-PUBLISHED-TTL:PT1H
BEGIN:VTIMEZONE
TZID:America/New_York
BEGIN:DAYLIGHT
TZOFFSETFROM:-0500
TZOFFSETTO:-0400
TZNAME:EDT
DTSTART:20210314T070000
END:DAYLIGHT
BEGIN:STANDARD
TZOFFSETFROM:-0400
TZOFFSETTO:-0500
TZNAME:EST
DTSTART:20211107T060000
END:STANDARD
BEGIN:DAYLIGHT
TZOFFSETFROM:-0500
TZOFFSETTO:-0400
TZNAME:EDT
DTSTART:20220313T070000
END:DAYLIGHT
BEGIN:STANDARD
TZOFFSETFROM:-0400
TZOFFSETTO:-0500
TZNAME:EST
DTSTART:20221106T060000
END:STANDARD
BEGIN:DAYLIGHT
TZOFFSETFROM:-0500
TZOFFSETTO:-0400
TZNAME:EDT
DTSTART:20230312T070000
END:DAYLIGHT
BEGIN:STANDARD
TZOFFSETFROM:-0400
TZOFFSETTO:-0500
TZNAME:EST
DTSTART:20231105T060000
END:STANDARD
END:VTIMEZONE
BEGIN:VEVENT
DTSTART;TZID=America/New_York:20230118T133000
DTEND;TZID=America/New_York:20230118T163000
DTSTAMP:20260421T100749
CREATED:20230117T181609Z
LAST-MODIFIED:20230117T181609Z
UID:16194-1674048600-1674059400@bnecareers.com
SUMMARY:Job Fair in Apex\, N.C.
DESCRIPTION:
URL:https://bnecareers.com/job-fair/job-fair-in-apex-n-c/
LOCATION:Hardee’s in Apex\, 40 Beaver Creak Road\, Apex\, NC\, 27502\, United States
CATEGORIES:Job Fair
END:VEVENT
BEGIN:VEVENT
DTSTART;TZID=America/New_York:20230118T133000
DTEND;TZID=America/New_York:20230118T163000
DTSTAMP:20260421T100749
CREATED:20230117T181417Z
LAST-MODIFIED:20230117T181417Z
UID:16191-1674048600-1674059400@bnecareers.com
SUMMARY:Job Fair in Pittsboro\, N.C.
DESCRIPTION:
URL:https://bnecareers.com/job-fair/job-fair-in-pittsboro-n-c/
LOCATION:Hardee’s in Pittsboro\, 28 East Street\, Pittsboro\, NC\, 27312\, United States
CATEGORIES:Job Fair
END:VEVENT
BEGIN:VEVENT
DTSTART;TZID=America/New_York:20230112T110000
DTEND;TZID=America/New_York:20230112T170000
DTSTAMP:20260421T100749
CREATED:20230105T152641Z
LAST-MODIFIED:20230105T153121Z
UID:16180-1673521200-1673542800@bnecareers.com
SUMMARY:Crew Job Fair in Lebanon\, Va.
DESCRIPTION:
URL:https://bnecareers.com/job-fair/crew-job-fair/
LOCATION:Hardee’s of Lebanon\, 1273 East Main Street\, Lebanon\, VA\, 24266\, United States
CATEGORIES:Job Fair
END:VEVENT
BEGIN:VEVENT
DTSTART;TZID=America/New_York:20230111T100000
DTEND;TZID=America/New_York:20230111T150000
DTSTAMP:20260421T100749
CREATED:20230105T153020Z
LAST-MODIFIED:20230105T153020Z
UID:16182-1673431200-1673449200@bnecareers.com
SUMMARY:Management Job Fair in Henderson\, N.C.
DESCRIPTION:NOW HIRING for Management Positions in Henderson\, Oxford\, Creedmoor\, Bunn\, and Warrenton!
URL:https://bnecareers.com/job-fair/management-job-fair-in-henderson-n-c/
LOCATION:NCWorks Career Center\, 826 S. Garnett Street\, Henderson\, NC\, 27536\, United States
CATEGORIES:Job Fair
END:VEVENT
BEGIN:VEVENT
DTSTART;TZID=America/New_York:20221130T110000
DTEND;TZID=America/New_York:20221130T170000
DTSTAMP:20260421T100749
CREATED:20221110T142509Z
LAST-MODIFIED:20221110T142509Z
UID:16171-1669806000-1669827600@bnecareers.com
SUMMARY:Crew and Management Job Fair in Springfield\, KY
DESCRIPTION:
URL:https://bnecareers.com/job-fair/crew-and-management-job-fair-in-springfield-ky/
LOCATION:Hardee’s of Springfield\, 801 Bardstown Road\, Springfield\, KY\, 40069\, United States
CATEGORIES:Job Fair
END:VEVENT
BEGIN:VEVENT
DTSTART;TZID=America/New_York:20221129T110000
DTEND;TZID=America/New_York:20221129T170000
DTSTAMP:20260421T100749
CREATED:20221110T142222Z
LAST-MODIFIED:20221110T142222Z
UID:16168-1669719600-1669741200@bnecareers.com
SUMMARY:Crew and Management Job Fair in London\, KY
DESCRIPTION:
URL:https://bnecareers.com/job-fair/crew-and-management-job-fair-in-london-ky/
LOCATION:Hardee’s of London\, 1974 West Hwy 192\, London\, KY\, 40741\, United States
CATEGORIES:Job Fair
END:VEVENT
BEGIN:VEVENT
DTSTART;TZID=America/New_York:20221128T140000
DTEND;TZID=America/New_York:20221128T180000
DTSTAMP:20260421T100749
CREATED:20221125T133815Z
LAST-MODIFIED:20221125T133815Z
UID:16176-1669644000-1669658400@bnecareers.com
SUMMARY:Job Fair in Portsmouth\, Va.
DESCRIPTION:
URL:https://bnecareers.com/job-fair/job-fair-in-portsmouth-va/
LOCATION:Hardee’s of Portside\, 850 London Blvd.\, Portsmouth\, VA\, 23704\, United States
CATEGORIES:Job Fair
END:VEVENT
BEGIN:VEVENT
DTSTART;TZID=America/New_York:20221102T110000
DTEND;TZID=America/New_York:20221102T170000
DTSTAMP:20260421T100749
CREATED:20221023T132158Z
LAST-MODIFIED:20221023T132158Z
UID:16155-1667386800-1667408400@bnecareers.com
SUMMARY:Crew and Management Job Fair in Clintwood\, Va.
DESCRIPTION:
URL:https://bnecareers.com/job-fair/crew-and-management-job-fair-in-clintwood-va/
LOCATION:Hardee’s of Clintwood\, 5012 Dickerson Highway\, Clintwood\, VA\, 24228\, United States
CATEGORIES:Job Fair
END:VEVENT
BEGIN:VEVENT
DTSTART;TZID=America/New_York:20221027T133000
DTEND;TZID=America/New_York:20221027T153000
DTSTAMP:20260421T100749
CREATED:20221012T153136Z
LAST-MODIFIED:20221012T153136Z
UID:16151-1666877400-1666884600@bnecareers.com
SUMMARY:Job Fair in Ocean Isle Beach\, N.C.
DESCRIPTION:Now Hiring\nHardee’s  \nCompetitive Pay  \nGreat Opportunity for:\nSenior Citizens\, Adults\, College Students\, Retirees\, Teachers and Teens \nAll Shifts and Positions \nCome Grow with Us\, there are opportunities for growth at any level –\nwhether an hourly crew member or in management – when you are part of our Hardee’s Team \nApply Online at BNECAREERS.COM\nOr\nText ‘BNEJOBS’ TO 25000 \nFun & Flexible Work Environment\, Great Schedule\, Free and Discounted Meals\nWE OFFER BENEFITS AND MUCH MORE\nMedical\, Dental\, Vision\, Life\nVacation\, 401k\, Scholarships\, Tuition Reimbursement\nSick Pay\, Holiday Pay\, Jury Duty Pay\nBereavement Pay
URL:https://bnecareers.com/job-fair/job-fair-in-ocean-isle-beach-n-c/
LOCATION:Ocean Isle Beach\, 1651 Seaside Road SW\, Ocean Isle Beach\, NC\, 28469\, United States
CATEGORIES:Job Fair
END:VEVENT
BEGIN:VEVENT
DTSTART;TZID=America/New_York:20221027T133000
DTEND;TZID=America/New_York:20221027T153000
DTSTAMP:20260421T100749
CREATED:20221012T153005Z
LAST-MODIFIED:20221012T153005Z
UID:16149-1666877400-1666884600@bnecareers.com
SUMMARY:Job Fair in Supply\, N.C.
DESCRIPTION:Now Hiring\nHardee’s  \nCompetitive Pay  \nGreat Opportunity for:\nSenior Citizens\, Adults\, College Students\, Retirees\, Teachers and Teens \nAll Shifts and Positions \nCome Grow with Us\, there are opportunities for growth at any level –\nwhether an hourly crew member or in management – when you are part of our Hardee’s Team \nApply Online at BNECAREERS.COM\nOr\nText ‘BNEJOBS’ TO 25000 \nFun & Flexible Work Environment\, Great Schedule\, Free and Discounted Meals\nWE OFFER BENEFITS AND MUCH MORE\nMedical\, Dental\, Vision\, Life\nVacation\, 401k\, Scholarships\, Tuition Reimbursement\nSick Pay\, Holiday Pay\, Jury Duty Pay\nBereavement Pay
URL:https://bnecareers.com/job-fair/job-fair-in-supply-n-c/
LOCATION:Hardee’s of Supply\, 5 Ocean Highway East\, Supply\, 28462\, United States
CATEGORIES:Job Fair
END:VEVENT
BEGIN:VEVENT
DTSTART;TZID=America/New_York:20221026T133000
DTEND;TZID=America/New_York:20221026T153000
DTSTAMP:20260421T100749
CREATED:20221012T152859Z
LAST-MODIFIED:20221012T152859Z
UID:16147-1666791000-1666798200@bnecareers.com
SUMMARY:Job Fair in Raleigh\, N.C.
DESCRIPTION:Now Hiring\nHardee’s  \nCompetitive Pay  \nGreat Opportunity for:\nSenior Citizens\, Adults\, College Students\, Retirees\, Teachers and Teens \nAll Shifts and Positions \nCome Grow with Us\, there are opportunities for growth at any level –\nwhether an hourly crew member or in management – when you are part of our Hardee’s Team \nApply Online at BNECAREERS.COM\nOr\nText ‘BNEJOBS’ TO 25000 \nFun & Flexible Work Environment\, Great Schedule\, Free and Discounted Meals\nWE OFFER BENEFITS AND MUCH MORE\nMedical\, Dental\, Vision\, Life\nVacation\, 401k\, Scholarships\, Tuition Reimbursement\nSick Pay\, Holiday Pay\, Jury Duty Pay\nBereavement Pay
URL:https://bnecareers.com/job-fair/job-fair-in-raleigh-n-c-2/
LOCATION:8000 Fayetteville Road\, 8000 Fayetteville Road\, Raleigh\, NC\, 27603\, United States
CATEGORIES:Job Fair
END:VEVENT
BEGIN:VEVENT
DTSTART;TZID=America/New_York:20221026T133000
DTEND;TZID=America/New_York:20221026T153000
DTSTAMP:20260421T100749
CREATED:20221012T152748Z
LAST-MODIFIED:20221012T152748Z
UID:16145-1666791000-1666798200@bnecareers.com
SUMMARY:Job Fair in Fuquay-Varina\, N.C.
DESCRIPTION:Now Hiring\nHardee’s  \nCompetitive Pay  \nGreat Opportunity for:\nSenior Citizens\, Adults\, College Students\, Retirees\, Teachers and Teens \nAll Shifts and Positions \nCome Grow with Us\, there are opportunities for growth at any level –\nwhether an hourly crew member or in management – when you are part of our Hardee’s Team \nApply Online at BNECAREERS.COM\nOr\nText ‘BNEJOBS’ TO 25000 \nFun & Flexible Work Environment\, Great Schedule\, Free and Discounted Meals\nWE OFFER BENEFITS AND MUCH MORE\nMedical\, Dental\, Vision\, Life\nVacation\, 401k\, Scholarships\, Tuition Reimbursement\nSick Pay\, Holiday Pay\, Jury Duty Pay\nBereavement Pay
URL:https://bnecareers.com/job-fair/job-fair-in-fuquay-varina-n-c-3/
LOCATION:Hardee’s – Fuquay-Varina 1655\, 1560 North Broad Street\, Fuquay-Varina\, NC\, 27526\, United States
CATEGORIES:Job Fair
END:VEVENT
BEGIN:VEVENT
DTSTART;TZID=America/New_York:20221020T133000
DTEND;TZID=America/New_York:20221020T153000
DTSTAMP:20260421T100749
CREATED:20221012T152629Z
LAST-MODIFIED:20221012T152629Z
UID:16142-1666272600-1666279800@bnecareers.com
SUMMARY:Job Fair in Garner\, N.C.
DESCRIPTION:Now Hiring\nHardee’s  \nCompetitive Pay  \nGreat Opportunity for:\nSenior Citizens\, Adults\, College Students\, Retirees\, Teachers and Teens \nAll Shifts and Positions \nCome Grow with Us\, there are opportunities for growth at any level –\nwhether an hourly crew member or in management – when you are part of our Hardee’s Team \nApply Online at BNECAREERS.COM\nOr\nText ‘BNEJOBS’ TO 25000 \nFun & Flexible Work Environment\, Great Schedule\, Free and Discounted Meals\nWE OFFER BENEFITS AND MUCH MORE\nMedical\, Dental\, Vision\, Life\nVacation\, 401k\, Scholarships\, Tuition Reimbursement\nSick Pay\, Holiday Pay\, Jury Duty Pay\nBereavement Pay
URL:https://bnecareers.com/job-fair/job-fair-in-garner-n-c-2/
LOCATION:Garner – 1189\, 100 Vandora Springs Road\, Garner\, NC\, 27529\, United States
CATEGORIES:Job Fair
END:VEVENT
BEGIN:VEVENT
DTSTART;TZID=America/New_York:20221020T133000
DTEND;TZID=America/New_York:20221020T153000
DTSTAMP:20260421T100749
CREATED:20221012T152439Z
LAST-MODIFIED:20221012T152439Z
UID:16139-1666272600-1666279800@bnecareers.com
SUMMARY:Job Fair in Aberdeen\, N.C.
DESCRIPTION:Now Hiring\nHardee’s  \nCompetitive Pay  \nGreat Opportunity for:\nSenior Citizens\, Adults\, College Students\, Retirees\, Teachers and Teens \nAll Shifts and Positions \nCome Grow with Us\, there are opportunities for growth at any level –\nwhether an hourly crew member or in management – when you are part of our Hardee’s Team \nApply Online at BNECAREERS.COM\nOr\nText ‘BNEJOBS’ TO 25000 \nFun & Flexible Work Environment\, Great Schedule\, Free and Discounted Meals\nWE OFFER BENEFITS AND MUCH MORE\nMedical\, Dental\, Vision\, Life\nVacation\, 401k\, Scholarships\, Tuition Reimbursement\nSick Pay\, Holiday Pay\, Jury Duty Pay\nBereavement Pay
URL:https://bnecareers.com/job-fair/job-fair-in-aberdeen-n-c/
LOCATION:Aberdeen\, 1664 NC Highway 5\, Aberdeen\, NC\, 28315\, United States
CATEGORIES:Job Fair
END:VEVENT
BEGIN:VEVENT
DTSTART;TZID=America/New_York:20221019T133000
DTEND;TZID=America/New_York:20221019T153000
DTSTAMP:20260421T100749
CREATED:20221012T152149Z
LAST-MODIFIED:20221012T152149Z
UID:16137-1666186200-1666193400@bnecareers.com
SUMMARY:Job Fair for All Positions in Day Shift in Clayton\, N.C.
DESCRIPTION:Now Hiring\nHardee’s  \nCompetitive Pay  \nGreat Opportunity for:\nSenior Citizens\, Adults\, College Students\, Retirees\, Teachers and Teens \nAll Shifts and Positions \nCome Grow with Us\, there are opportunities for growth at any level –\nwhether an hourly crew member or in management – when you are part of our Hardee’s Team \nApply Online at BNECAREERS.COM\nOr\nText ‘BNEJOBS’ TO 25000 \nFun & Flexible Work Environment\, Great Schedule\, Free and Discounted Meals\nWE OFFER BENEFITS AND MUCH MORE\nMedical\, Dental\, Vision\, Life\nVacation\, 401k\, Scholarships\, Tuition Reimbursement\nSick Pay\, Holiday Pay\, Jury Duty Pay\nBereavement Pay
URL:https://bnecareers.com/job-fair/job-fair-for-all-positions-in-day-shift-in-clayton-n-c/
LOCATION:Hardee’s – Clayton 1185\, 12872 US Highway 70 Business West\, Clayton\, NC\, 27520\, United States
CATEGORIES:Job Fair
END:VEVENT
BEGIN:VEVENT
DTSTART;TZID=America/New_York:20221018T110000
DTEND;TZID=America/New_York:20221018T170000
DTSTAMP:20260421T100749
CREATED:20220926T124949Z
LAST-MODIFIED:20220926T124949Z
UID:16132-1666090800-1666112400@bnecareers.com
SUMMARY:Crew and Management Job Fair in Pikeville\, N.C.
DESCRIPTION:
URL:https://bnecareers.com/job-fair/crew-and-management-job-fair-in-pikeville-n-c/
LOCATION:Hardee’s of Pikeville\, 667 Hambley Blvd\, Pikeville\, KY\, 41501\, United States
CATEGORIES:Job Fair
END:VEVENT
BEGIN:VEVENT
DTSTART;TZID=America/New_York:20221015T120000
DTEND;TZID=America/New_York:20221015T160000
DTSTAMP:20260421T100749
CREATED:20221012T150032Z
LAST-MODIFIED:20221012T150032Z
UID:16135-1665835200-1665849600@bnecareers.com
SUMMARY:Hardee's Job Fair in Hampstead\, N.C.
DESCRIPTION:Join us for a Hardee’s job fair in Hampstead\, N.C.! There will be music\, giveaways and more!
URL:https://bnecareers.com/job-fair/hardees-job-fair-in-hampstead-n-c/
LOCATION:Hampstead\, 14535 Highway 17 S\, Hampstead\, NC\, 28443\, United States
CATEGORIES:Job Fair
END:VEVENT
BEGIN:VEVENT
DTSTART;TZID=America/New_York:20221006T110000
DTEND;TZID=America/New_York:20221006T170000
DTSTAMP:20260421T100749
CREATED:20220926T124856Z
LAST-MODIFIED:20220926T124856Z
UID:16130-1665054000-1665075600@bnecareers.com
SUMMARY:Crew and Management Job Fair in Denver\, N.C.
DESCRIPTION:
URL:https://bnecareers.com/job-fair/crew-and-management-job-fair-in-denver-n-c-2/
LOCATION:Hardee’s of Denver\, 6090 Highway 16 N\, Denver\, NC\, 28037\, United States
CATEGORIES:Job Fair
END:VEVENT
BEGIN:VEVENT
DTSTART;TZID=America/New_York:20221005T110000
DTEND;TZID=America/New_York:20221005T170000
DTSTAMP:20260421T100749
CREATED:20220926T124745Z
LAST-MODIFIED:20220926T124745Z
UID:16127-1664967600-1664989200@bnecareers.com
SUMMARY:Crew and Management Job Fair in Belmont\, N.C.
DESCRIPTION:
URL:https://bnecareers.com/job-fair/crew-and-management-job-fair-in-belmont-n-c/
LOCATION:Hardee’s of Belmont\, 611 N. Main Street\, Belmont\, NC\, 28012\, United States
CATEGORIES:Job Fair
END:VEVENT
BEGIN:VEVENT
DTSTART;TZID=America/New_York:20220630T090000
DTEND;TZID=America/New_York:20220630T170000
DTSTAMP:20260421T100749
CREATED:20220623T125344Z
LAST-MODIFIED:20220623T125345Z
UID:16118-1656579600-1656608400@bnecareers.com
SUMMARY:Hiring Event in Raleigh\, N.C.
DESCRIPTION:On the spot interviews and hiring for the Hardee’s on Gorman Street in Raleigh\, N.C. We’ll be interviewing for biscuit makers\, cooks\, cashiers and managers.
URL:https://bnecareers.com/job-fair/hiring-event-in-raleigh-n-c-3/
LOCATION:NC
CATEGORIES:Job Fair
END:VEVENT
BEGIN:VEVENT
DTSTART;TZID=America/New_York:20220629T090000
DTEND;TZID=America/New_York:20220629T170000
DTSTAMP:20260421T100749
CREATED:20220623T125310Z
LAST-MODIFIED:20220623T125310Z
UID:16116-1656493200-1656522000@bnecareers.com
SUMMARY:Hiring Event in Raleigh\, N.C.
DESCRIPTION:On the spot interviews and hiring for the Hardee’s on Gorman Street in Raleigh\, N.C. We’ll be interviewing for biscuit makers\, cooks\, cashiers and managers.
URL:https://bnecareers.com/job-fair/hiring-event-in-raleigh-n-c-2/
LOCATION:Hardee’s of Gorman Street\, 2304 Gorman Street\, Raleigh\, NC\, 27606\, United States
CATEGORIES:Job Fair
END:VEVENT
BEGIN:VEVENT
DTSTART;TZID=America/New_York:20220628T080000
DTEND;TZID=America/New_York:20220628T140000
DTSTAMP:20260421T100749
CREATED:20220623T125233Z
LAST-MODIFIED:20220623T125233Z
UID:16114-1656403200-1656424800@bnecareers.com
SUMMARY:Hiring Event in Raleigh\, N.C.
DESCRIPTION:On the spot interviews and hiring for the Hardee’s on Gorman Street in Raleigh\, N.C. We’ll be interviewing for biscuit makers\, cooks\, cashiers and managers.
URL:https://bnecareers.com/job-fair/hiring-event-in-raleigh-n-c/
LOCATION:Hardee’s of Gorman Street\, 2304 Gorman Street\, Raleigh\, NC\, 27606\, United States
CATEGORIES:Job Fair
END:VEVENT
BEGIN:VEVENT
DTSTART;TZID=America/New_York:20220506T150000
DTEND;TZID=America/New_York:20220506T170000
DTSTAMP:20260421T100749
CREATED:20220328T122552Z
LAST-MODIFIED:20220328T122552Z
UID:16091-1651849200-1651856400@bnecareers.com
SUMMARY:Perquimans County High School Hiring Event
DESCRIPTION:
URL:https://bnecareers.com/job-fair/perquimans-county-high-school-hiring-event/
LOCATION:Perquimans County High School\, 305 S Edenton Rd St\, Hertford\, NC\, 27944\, United States
CATEGORIES:Job Fair
END:VEVENT
BEGIN:VEVENT
DTSTART;TZID=America/New_York:20220412T100000
DTEND;TZID=America/New_York:20220412T140000
DTSTAMP:20260421T100749
CREATED:20220328T123733Z
LAST-MODIFIED:20220328T123733Z
UID:16096-1649757600-1649772000@bnecareers.com
SUMMARY:Job Fair in Courtland\, VA
DESCRIPTION:
URL:https://bnecareers.com/job-fair/job-fair-in-courtland-va/
LOCATION:Courtland Hardee’s\, 28384 Southampton Highway\, Courtland\, VA\, 23837\, United States
CATEGORIES:Job Fair
END:VEVENT
BEGIN:VEVENT
DTSTART;TZID=America/New_York:20220408T140000
DTEND;TZID=America/New_York:20220408T170000
DTSTAMP:20260421T100749
CREATED:20220328T122814Z
LAST-MODIFIED:20220328T122814Z
UID:16094-1649426400-1649437200@bnecareers.com
SUMMARY:Job Fair in Grandy\, N.C.
DESCRIPTION:
URL:https://bnecareers.com/job-fair/job-fair-in-grandy-n-c/
LOCATION:Hardee’s of Grandy\, 6501 Caratoke Highway\, Grandy\, NC\, 27939\, United States
CATEGORIES:Job Fair
END:VEVENT
BEGIN:VEVENT
DTSTART;TZID=America/New_York:20220405T100000
DTEND;TZID=America/New_York:20220405T140000
DTSTAMP:20260421T100749
CREATED:20220328T121805Z
LAST-MODIFIED:20220328T121805Z
UID:16088-1649152800-1649167200@bnecareers.com
SUMMARY:Job Fair in Emporia\, VA
DESCRIPTION:
URL:https://bnecareers.com/job-fair/job-fair-in-emporia-va/
LOCATION:1300 Greensville County Circle\, Emporia\, VA\, 23847\, United States
CATEGORIES:Job Fair
END:VEVENT
BEGIN:VEVENT
DTSTART;TZID=America/New_York:20220315T110000
DTEND;TZID=America/New_York:20220315T170000
DTSTAMP:20260421T100749
CREATED:20220221T194013Z
LAST-MODIFIED:20220221T194013Z
UID:16083-1647342000-1647363600@bnecareers.com
SUMMARY:Crew Job Fair in Lebanon\, Va.
DESCRIPTION:
URL:https://bnecareers.com/job-fair/crew-job-fair-in-lebanon-va/
LOCATION:Hardee’s of Lebanon\, 1273 East Main Street\, Lebanon\, VA\, 24266\, United States
CATEGORIES:Job Fair
END:VEVENT
BEGIN:VEVENT
DTSTART;TZID=America/New_York:20220113T110000
DTEND;TZID=America/New_York:20220113T180000
DTSTAMP:20260421T100749
CREATED:20211219T175547Z
LAST-MODIFIED:20211219T175547Z
UID:16065-1642071600-1642096800@bnecareers.com
SUMMARY:Crew and Management Job Fair in Madison\, N.C.
DESCRIPTION:
URL:https://bnecareers.com/job-fair/crew-and-management-job-fair-in-madison-n-c/
LOCATION:Hardee’s of Madison-Mayodan\, 604 Burton Street\, Madison\, NC\, 27025\, United States
CATEGORIES:Job Fair
END:VEVENT
BEGIN:VEVENT
DTSTART;TZID=America/New_York:20211208T100000
DTEND;TZID=America/New_York:20211208T180000
DTSTAMP:20260421T100749
CREATED:20211122T172741Z
LAST-MODIFIED:20211122T172741Z
UID:16062-1638957600-1638986400@bnecareers.com
SUMMARY:Crew and Shift Manager Job Fair in Pilot Mountain\, N.C.
DESCRIPTION:
URL:https://bnecareers.com/job-fair/crew-and-shift-manager-job-fair-in-pilot-mountain-n-c/
LOCATION:Armfield Civic and Recreation Center\, 873 W. 52 Bypass\, Pilot Mountain\, NC\, 27041\, United States
CATEGORIES:Job Fair
END:VEVENT
BEGIN:VEVENT
DTSTART;TZID=America/New_York:20211201T100000
DTEND;TZID=America/New_York:20211201T180000
DTSTAMP:20260421T100749
CREATED:20211115T152157Z
LAST-MODIFIED:20211115T152157Z
UID:16059-1638352800-1638381600@bnecareers.com
SUMMARY:Management Job Fair in Roanoke\, Va.
DESCRIPTION:
URL:https://bnecareers.com/job-fair/management-job-fair-in-roanoke-va-2/
LOCATION:Hardee’s of Tanglewood Mall\, 4060 Electric Road\, Roanoke\, VA\, 24018\, United States
CATEGORIES:Job Fair
END:VEVENT
END:VCALENDAR