BEGIN:VCALENDAR
VERSION:2.0
PRODID:-//Hardee’s - BNE Careers - ECPv6.3.5//NONSGML v1.0//EN
CALSCALE:GREGORIAN
METHOD:PUBLISH
X-WR-CALNAME:Hardee’s - BNE Careers
X-ORIGINAL-URL:https://bnecareers.com
X-WR-CALDESC:Events for Hardee’s - BNE Careers
REFRESH-INTERVAL;VALUE=DURATION:PT1H
X-Robots-Tag:noindex
X-PUBLISHED-TTL:PT1H
BEGIN:VTIMEZONE
TZID:America/New_York
BEGIN:DAYLIGHT
TZOFFSETFROM:-0500
TZOFFSETTO:-0400
TZNAME:EDT
DTSTART:20210314T070000
END:DAYLIGHT
BEGIN:STANDARD
TZOFFSETFROM:-0400
TZOFFSETTO:-0500
TZNAME:EST
DTSTART:20211107T060000
END:STANDARD
END:VTIMEZONE
BEGIN:VEVENT
DTSTART;TZID=America/New_York:20210621T100000
DTEND;TZID=America/New_York:20210621T180000
DTSTAMP:20260421T153141
CREATED:20210524T140151Z
LAST-MODIFIED:20210524T140151Z
UID:16000-1624269600-1624298400@bnecareers.com
SUMMARY:Crew Job Fair in Timberville\, Va.
DESCRIPTION:
URL:https://bnecareers.com/job-fair/crew-job-fair-in-timberville-va/
LOCATION:Timberville\, 14078 Timberway\, Timberville\, VA\, 22853\, United States
CATEGORIES:Job Fair
END:VEVENT
BEGIN:VEVENT
DTSTART;TZID=America/New_York:20210607T100000
DTEND;TZID=America/New_York:20210607T180000
DTSTAMP:20260421T153141
CREATED:20210524T135919Z
LAST-MODIFIED:20210524T135919Z
UID:15997-1623060000-1623088800@bnecareers.com
SUMMARY:Crew Job Fair in Luray\, va.
DESCRIPTION:
URL:https://bnecareers.com/job-fair/crew-job-fair-in-luray-va/
LOCATION:Luray\, 607 E. Main Street\, Luray\, NC\, 22835\, United States
CATEGORIES:Job Fair
END:VEVENT
BEGIN:VEVENT
DTSTART;TZID=America/New_York:20210604T100000
DTEND;TZID=America/New_York:20210604T120000
DTSTAMP:20260421T153141
CREATED:20210519T133603Z
LAST-MODIFIED:20210519T133603Z
UID:15994-1622800800-1622808000@bnecareers.com
SUMMARY:Student Job Fair at Ashley Ridge High School in Summerville\, S.C.
DESCRIPTION:Provide seniors with the chance to explore post-secondary goals with recruiters from colleges\,\narmed forces\, and employment opportunities.
URL:https://bnecareers.com/job-fair/student-job-fair-at-ashley-ridge-high-school-in-summerville-s-c/
LOCATION:Ashley Ridge High School\, 9800 Delmar Highway\, Summerville\, SC\, 29485\, United States
CATEGORIES:Job Fair
END:VEVENT
BEGIN:VEVENT
DTSTART;TZID=America/New_York:20210603T090000
DTEND;TZID=America/New_York:20210603T120000
DTSTAMP:20260421T153141
CREATED:20210518T192611Z
LAST-MODIFIED:20210518T192611Z
UID:15987-1622710800-1622721600@bnecareers.com
SUMMARY:Career Fair in Wilmington\, N.C.
DESCRIPTION:Job Fair Wilmington – 6-3-2021
URL:https://bnecareers.com/job-fair/career-fair-in-wilmington-n-c/
LOCATION:Port City Community Church Parking Lot\, 250 Vision Drive\, Wilmington\, NC\, 28403\, United States
CATEGORIES:Job Fair
END:VEVENT
BEGIN:VEVENT
DTSTART;TZID=America/New_York:20210526T140000
DTEND;TZID=America/New_York:20210526T170000
DTSTAMP:20260421T153141
CREATED:20210518T192201Z
LAST-MODIFIED:20210518T192201Z
UID:15983-1622037600-1622048400@bnecareers.com
SUMMARY:Crew and Management Job Fair in Benson\, N.C.
DESCRIPTION:Hardees-JobFair_McGee’s 5-26-2021
URL:https://bnecareers.com/job-fair/crew-and-management-job-fair-in-benson-n-c/
LOCATION:Hardee’s of McGee’s Crossroads
CATEGORIES:Job Fair
END:VEVENT
BEGIN:VEVENT
DTSTART;TZID=America/New_York:20210520T100000
DTEND;TZID=America/New_York:20210520T170000
DTSTAMP:20260421T153141
CREATED:20210427T164136Z
LAST-MODIFIED:20210427T164136Z
UID:15950-1621504800-1621530000@bnecareers.com
SUMMARY:Crew Job Fair in Norton\, Va.
DESCRIPTION:Hiring Immediately!!
URL:https://bnecareers.com/job-fair/crew-job-fair-in-norton-va/
LOCATION:Norton\, 475 Wharton Lane NE\, Norton\, VA\, 24273\, United States
CATEGORIES:Job Fair
END:VEVENT
BEGIN:VEVENT
DTSTART;TZID=America/New_York:20210520T100000
DTEND;TZID=America/New_York:20210520T160000
DTSTAMP:20260421T153141
CREATED:20210518T192828Z
LAST-MODIFIED:20210518T192828Z
UID:15991-1621504800-1621526400@bnecareers.com
SUMMARY:Veterans Job Expo in Fayetteville\, N.C.
DESCRIPTION:
URL:https://bnecareers.com/job-fair/veterans-job-expo-in-fayetteville-n-c/
LOCATION:VFW Post 6018\, 116 Chance Street\, Fayetteville\, NC\, 28301\, United States
END:VEVENT
BEGIN:VEVENT
DTSTART;TZID=America/New_York:20210513T100000
DTEND;TZID=America/New_York:20210513T170000
DTSTAMP:20260421T153141
CREATED:20210427T163930Z
LAST-MODIFIED:20210427T163930Z
UID:15947-1620900000-1620925200@bnecareers.com
SUMMARY:Crew Job Fair in Big Stone Gap\, Va.
DESCRIPTION:Hiring immediately!
URL:https://bnecareers.com/job-fair/crew-job-fair-in-big-stone-gap-va/
LOCATION:Big Stone Gap\, 711 Wood Avenue East\, Big Stone Gap\, VA\, 24219\, United States
CATEGORIES:Job Fair
END:VEVENT
BEGIN:VEVENT
DTSTART;TZID=America/New_York:20210511T100000
DTEND;TZID=America/New_York:20210511T170000
DTSTAMP:20260421T153141
CREATED:20210426T111204Z
LAST-MODIFIED:20210426T111204Z
UID:15936-1620727200-1620752400@bnecareers.com
SUMMARY:Crew and Management Job Fair in Pearisburg\, Va.
DESCRIPTION:We’ll be interviewing for all crew positions\, as well as shift managers and an assistant manager.
URL:https://bnecareers.com/job-fair/crew-and-management-job-fair-in-pearisburg-va/
LOCATION:Hardee’s of Pearisburg\, 528 N. Main Street\, Pearisburg\, VA\, 24134\, United States
CATEGORIES:Job Fair
END:VEVENT
BEGIN:VEVENT
DTSTART;TZID=America/New_York:20210511T080000
DTEND;TZID=America/New_York:20210511T120000
DTSTAMP:20260421T153141
CREATED:20210427T131917Z
LAST-MODIFIED:20210427T131917Z
UID:15944-1620720000-1620734400@bnecareers.com
SUMMARY:Job Fair in Charleston\, S.C.
DESCRIPTION:
URL:https://bnecareers.com/job-fair/job-fair-in-charleston-s-c/
LOCATION:Citadel\, 2070 Sam Rittenberg Blvd.\, Charleston\, SC\, 29407\, United States
CATEGORIES:Job Fair
END:VEVENT
BEGIN:VEVENT
DTSTART;TZID=America/New_York:20210505T100000
DTEND;TZID=America/New_York:20210505T180000
DTSTAMP:20260421T153141
CREATED:20210426T111509Z
LAST-MODIFIED:20210426T111509Z
UID:15938-1620208800-1620237600@bnecareers.com
SUMMARY:Crew Job Fair in Hopewell\, Va.
DESCRIPTION:
URL:https://bnecareers.com/job-fair/crew-job-fair-in-hopewell-va/
LOCATION:Hardee’s of Hopewell #2\, 310 E. Randolph Rd.\, Hopewell\, VA\, 23860\, United States
CATEGORIES:Job Fair
END:VEVENT
BEGIN:VEVENT
DTSTART;TZID=America/New_York:20210504T100000
DTEND;TZID=America/New_York:20210504T170000
DTSTAMP:20260421T153141
CREATED:20210414T200934Z
LAST-MODIFIED:20210414T200934Z
UID:15911-1620122400-1620147600@bnecareers.com
SUMMARY:Crew and Management Job Fair in Salem\, Va.
DESCRIPTION:
URL:https://bnecareers.com/job-fair/crew-and-management-job-fair-in-salem-va/
LOCATION:Hardee’s of Salem #2\, 2038 W. Main Street\, Salem\, VA\, 24153\, United States
CATEGORIES:Job Fair
END:VEVENT
BEGIN:VEVENT
DTSTART;TZID=America/New_York:20210428T100000
DTEND;TZID=America/New_York:20210428T170000
DTSTAMP:20260421T153141
CREATED:20210414T200749Z
LAST-MODIFIED:20210414T200749Z
UID:15909-1619604000-1619629200@bnecareers.com
SUMMARY:Crew and Management Job Fair in Roanoke\, Va.
DESCRIPTION:We are hiring for all shifts and positions\, Cook\, Cashier\, Biscuit Maker\, Shift Manager\, Assistant Manager
URL:https://bnecareers.com/job-fair/crew-and-management-job-fair-in-roanoke-va-4/
LOCATION:Hardee’s of Tanglewood Mall\, 4060 Electric Road\, Roanoke\, VA\, 24018\, United States
CATEGORIES:Job Fair
END:VEVENT
BEGIN:VEVENT
DTSTART;TZID=America/New_York:20210422T140000
DTEND;TZID=America/New_York:20210422T180000
DTSTAMP:20260421T153141
CREATED:20210416T131250Z
LAST-MODIFIED:20210416T131408Z
UID:15924-1619100000-1619114400@bnecareers.com
SUMMARY:Crew Job Fair in Burgaw\, N.C.
DESCRIPTION:
URL:https://bnecareers.com/job-fair/crew-job-fair-in-burgaw-n-c/
LOCATION:Burgaw\, 602-C Highway 117 North\, Burgaw\, NC\, 28425\, United States
CATEGORIES:Job Fair
END:VEVENT
BEGIN:VEVENT
DTSTART;TZID=America/New_York:20210422T140000
DTEND;TZID=America/New_York:20210422T180000
DTSTAMP:20260421T153141
CREATED:20210416T131125Z
LAST-MODIFIED:20210416T131125Z
UID:15922-1619100000-1619114400@bnecareers.com
SUMMARY:Crew Job Fair in Ravenel\, S.C.
DESCRIPTION:
URL:https://bnecareers.com/job-fair/crew-job-fair-in-ravenel-s-c/
LOCATION:Hardee’s of Ravenel\, 6320 Savannah Hwy\, Ravenal\, 29470
END:VEVENT
BEGIN:VEVENT
DTSTART;TZID=America/New_York:20210422T140000
DTEND;TZID=America/New_York:20210422T180000
DTSTAMP:20260421T153141
CREATED:20210416T130959Z
LAST-MODIFIED:20210416T130959Z
UID:15920-1619100000-1619114400@bnecareers.com
SUMMARY:Crew Job Fair in Castle Hayne\, N.C.
DESCRIPTION:
URL:https://bnecareers.com/job-fair/crew-job-fair-in-castle-hayne-n-c/
LOCATION:Castle Hayne in Castle Hayne\, 5601 Castle Hayne Road\, Castle Hayne\, NC\, 28429\, United States
CATEGORIES:Job Fair
END:VEVENT
BEGIN:VEVENT
DTSTART;TZID=America/New_York:20210422T100000
DTEND;TZID=America/New_York:20210422T180000
DTSTAMP:20260421T153141
CREATED:20210412T144812Z
LAST-MODIFIED:20210412T144855Z
UID:15906-1619085600-1619114400@bnecareers.com
SUMMARY:Job Fair in Newport News\, Va.
DESCRIPTION:
URL:https://bnecareers.com/job-fair/job-fair-in-newport-news-va/
LOCATION:Denbigh\, 430 Denbigh Blvd.\, Newport News\, VA\, 26308\, United States
CATEGORIES:Job Fair
END:VEVENT
BEGIN:VEVENT
DTSTART;TZID=America/New_York:20210421T140000
DTEND;TZID=America/New_York:20210421T180000
DTSTAMP:20260421T153141
CREATED:20210416T130852Z
LAST-MODIFIED:20210416T130852Z
UID:15918-1619013600-1619028000@bnecareers.com
SUMMARY:Job Fair in Surf City\, N.C.
DESCRIPTION:
URL:https://bnecareers.com/job-fair/job-fair-in-surf-city-n-c-3/
LOCATION:Hardee’s of Surf City\, 418 Roland Avenue\, Surf City\, NC\, 28445\, United States
CATEGORIES:Job Fair
END:VEVENT
BEGIN:VEVENT
DTSTART;TZID=America/New_York:20210421T140000
DTEND;TZID=America/New_York:20210421T180000
DTSTAMP:20260421T153141
CREATED:20210416T130742Z
LAST-MODIFIED:20210416T130742Z
UID:15916-1619013600-1619028000@bnecareers.com
SUMMARY:Crew Job Fair in Wilmington\, N.C.
DESCRIPTION:=
URL:https://bnecareers.com/job-fair/crew-job-fair-in-wilmington-n-c/
LOCATION:17th Street\, 1970 S. 17th Street\, Wilmington\, NC\, 28401\, United States
CATEGORIES:Job Fair
END:VEVENT
BEGIN:VEVENT
DTSTART;TZID=America/New_York:20210421T140000
DTEND;TZID=America/New_York:20210421T180000
DTSTAMP:20260421T153141
CREATED:20210416T130644Z
LAST-MODIFIED:20210416T130644Z
UID:15914-1619013600-1619028000@bnecareers.com
SUMMARY:Crew Job Fair in Port Royal\, S.C.
DESCRIPTION:
URL:https://bnecareers.com/job-fair/crew-job-fair-in-port-royal-s-c/
LOCATION:Port Royal\, 1450 Ribault Road\, Port Royal\, SC\, 29935\, United States
CATEGORIES:Job Fair
END:VEVENT
BEGIN:VEVENT
DTSTART;TZID=America/New_York:20210421T100000
DTEND;TZID=America/New_York:20210421T180000
DTSTAMP:20260421T153141
CREATED:20210412T130707Z
LAST-MODIFIED:20210412T130707Z
UID:15904-1618999200-1619028000@bnecareers.com
SUMMARY:Crew and Management Job Fair in Richmond\, Va.
DESCRIPTION:
URL:https://bnecareers.com/job-fair/crew-and-management-job-fair-in-richmond-va/
LOCATION:Hardee’s of South Richmond\, 4801 Jefferson Davis Highway\, Richmond\, VA\, 23234\, United States
CATEGORIES:Job Fair
END:VEVENT
BEGIN:VEVENT
DTSTART;TZID=America/New_York:20210413T110000
DTEND;TZID=America/New_York:20210413T170000
DTSTAMP:20260421T153141
CREATED:20210322T172438Z
LAST-MODIFIED:20210322T172438Z
UID:15874-1618311600-1618333200@bnecareers.com
SUMMARY:Crew and Management Job Fair in Prestonsburg\, KY
DESCRIPTION:
URL:https://bnecareers.com/job-fair/crew-and-management-job-fair-in-prestonsburg-ky/
LOCATION:Hardee’s of Prestonburg\, 909 North Lake Drive\, Prestonburg\, KY\, 41653\, United States
CATEGORIES:Job Fair
END:VEVENT
BEGIN:VEVENT
DTSTART;TZID=America/New_York:20210408T140000
DTEND;TZID=America/New_York:20210408T180000
DTSTAMP:20260421T153141
CREATED:20210401T114039Z
LAST-MODIFIED:20210401T114039Z
UID:15893-1617890400-1617904800@bnecareers.com
SUMMARY:Job Fair in Surf City\, N.C.
DESCRIPTION:
URL:https://bnecareers.com/job-fair/job-fair-in-surf-city-n-c-2/
LOCATION:Hardee’s of Surf City\, 418 Roland Avenue\, Surf City\, NC\, 28445\, United States
CATEGORIES:Job Fair
END:VEVENT
BEGIN:VEVENT
DTSTART;TZID=America/New_York:20210408T140000
DTEND;TZID=America/New_York:20210408T180000
DTSTAMP:20260421T153141
CREATED:20210401T113909Z
LAST-MODIFIED:20210401T113909Z
UID:15891-1617890400-1617904800@bnecareers.com
SUMMARY:Job Fair in Burgaw\, N.C.
DESCRIPTION:
URL:https://bnecareers.com/job-fair/job-fair-in-burgaw-n-c-2/
LOCATION:Burgaw\, 602-C Highway 117 North\, Burgaw\, NC\, 28425\, United States
CATEGORIES:Job Fair
END:VEVENT
BEGIN:VEVENT
DTSTART;TZID=America/New_York:20210407T140000
DTEND;TZID=America/New_York:20210407T180000
DTSTAMP:20260421T153141
CREATED:20210401T113321Z
LAST-MODIFIED:20210401T113321Z
UID:15883-1617804000-1617818400@bnecareers.com
SUMMARY:Job Fair in Port Royal\, S.C.
DESCRIPTION:
URL:https://bnecareers.com/job-fair/job-fair-in-port-royal-s-c-5/
LOCATION:Port Royal\, 1450 Ribault Road\, Port Royal\, SC\, 29935\, United States
CATEGORIES:Job Fair
END:VEVENT
BEGIN:VEVENT
DTSTART;TZID=America/New_York:20210406T140000
DTEND;TZID=America/New_York:20210406T180000
DTSTAMP:20260421T153141
CREATED:20210401T113747Z
LAST-MODIFIED:20210401T113747Z
UID:15889-1617717600-1617732000@bnecareers.com
SUMMARY:Job Fair in Ravenel\, S.C.
DESCRIPTION:
URL:https://bnecareers.com/job-fair/job-fair-in-ravenel-s-c-6/
LOCATION:Hardee’s of Ravenel\, 6320 Savannah Hwy\, Ravenal\, 29470
CATEGORIES:Job Fair
END:VEVENT
BEGIN:VEVENT
DTSTART;TZID=America/New_York:20210406T140000
DTEND;TZID=America/New_York:20210406T180000
DTSTAMP:20260421T153141
CREATED:20210401T113637Z
LAST-MODIFIED:20210401T113637Z
UID:15887-1617717600-1617732000@bnecareers.com
SUMMARY:Job Fair in Castle Hayne\, N.C.
DESCRIPTION:
URL:https://bnecareers.com/job-fair/job-fair-in-castle-hayne-n-c-2/
LOCATION:Castle Hayne in Castle Hayne\, 5601 Castle Hayne Road\, Castle Hayne\, NC\, 28429\, United States
CATEGORIES:Job Fair
END:VEVENT
BEGIN:VEVENT
DTSTART;TZID=America/New_York:20210401T140000
DTEND;TZID=America/New_York:20210401T180000
DTSTAMP:20260421T153141
CREATED:20210401T113513Z
LAST-MODIFIED:20210401T113513Z
UID:15885-1617285600-1617300000@bnecareers.com
SUMMARY:Job Fair in Wilmington\, N.C.
DESCRIPTION:
URL:https://bnecareers.com/job-fair/job-fair-in-wilmington-n-c-5/
LOCATION:17th Street\, 1970 S. 17th Street\, Wilmington\, NC\, 28401\, United States
CATEGORIES:Job Fair
END:VEVENT
BEGIN:VEVENT
DTSTART;TZID=America/New_York:20210401T100000
DTEND;TZID=America/New_York:20210401T170000
DTSTAMP:20260421T153141
CREATED:20210311T143712Z
LAST-MODIFIED:20210311T143712Z
UID:15871-1617271200-1617296400@bnecareers.com
SUMMARY:Crew and Management Job Fair in Roanoke\, Va.
DESCRIPTION:
URL:https://bnecareers.com/job-fair/crew-and-management-job-fair-in-roanoke-va-3/
LOCATION:Hardee’s of Brambleton\, 3729 Brambleton Ave.\, Roanoke\, VA\, 24018\, United States
CATEGORIES:Job Fair
END:VEVENT
BEGIN:VEVENT
DTSTART;TZID=America/New_York:20210310T100000
DTEND;TZID=America/New_York:20210310T170000
DTSTAMP:20260421T153141
CREATED:20210216T134556Z
LAST-MODIFIED:20210216T134556Z
UID:15858-1615370400-1615395600@bnecareers.com
SUMMARY:Crew Job Fair in Christiansburg\, Va.
DESCRIPTION:
URL:https://bnecareers.com/job-fair/crew-job-fair-in-christiansburg-va/
LOCATION:Hardee’s of Christiansburg\, 2437 Roanoke Street\, Christiansburg\, VA\, 24073\, United States
CATEGORIES:Job Fair
END:VEVENT
END:VCALENDAR