BEGIN:VCALENDAR
VERSION:2.0
PRODID:-//Hardee’s - BNE Careers - ECPv6.3.5//NONSGML v1.0//EN
CALSCALE:GREGORIAN
METHOD:PUBLISH
X-WR-CALNAME:Hardee’s - BNE Careers
X-ORIGINAL-URL:https://bnecareers.com
X-WR-CALDESC:Events for Hardee’s - BNE Careers
REFRESH-INTERVAL;VALUE=DURATION:PT1H
X-Robots-Tag:noindex
X-PUBLISHED-TTL:PT1H
BEGIN:VTIMEZONE
TZID:America/New_York
BEGIN:DAYLIGHT
TZOFFSETFROM:-0500
TZOFFSETTO:-0400
TZNAME:EDT
DTSTART:20200308T070000
END:DAYLIGHT
BEGIN:STANDARD
TZOFFSETFROM:-0400
TZOFFSETTO:-0500
TZNAME:EST
DTSTART:20201101T060000
END:STANDARD
BEGIN:DAYLIGHT
TZOFFSETFROM:-0500
TZOFFSETTO:-0400
TZNAME:EDT
DTSTART:20210314T070000
END:DAYLIGHT
BEGIN:STANDARD
TZOFFSETFROM:-0400
TZOFFSETTO:-0500
TZNAME:EST
DTSTART:20211107T060000
END:STANDARD
END:VTIMEZONE
BEGIN:VEVENT
DTSTART;TZID=America/New_York:20210421T100000
DTEND;TZID=America/New_York:20210421T180000
DTSTAMP:20260421T182604
CREATED:20210412T130707Z
LAST-MODIFIED:20210412T130707Z
UID:15904-1618999200-1619028000@bnecareers.com
SUMMARY:Crew and Management Job Fair in Richmond\, Va.
DESCRIPTION:
URL:https://bnecareers.com/job-fair/crew-and-management-job-fair-in-richmond-va/
LOCATION:Hardee’s of South Richmond\, 4801 Jefferson Davis Highway\, Richmond\, VA\, 23234\, United States
CATEGORIES:Job Fair
END:VEVENT
BEGIN:VEVENT
DTSTART;TZID=America/New_York:20210413T110000
DTEND;TZID=America/New_York:20210413T170000
DTSTAMP:20260421T182604
CREATED:20210322T172438Z
LAST-MODIFIED:20210322T172438Z
UID:15874-1618311600-1618333200@bnecareers.com
SUMMARY:Crew and Management Job Fair in Prestonsburg\, KY
DESCRIPTION:
URL:https://bnecareers.com/job-fair/crew-and-management-job-fair-in-prestonsburg-ky/
LOCATION:Hardee’s of Prestonburg\, 909 North Lake Drive\, Prestonburg\, KY\, 41653\, United States
CATEGORIES:Job Fair
END:VEVENT
BEGIN:VEVENT
DTSTART;TZID=America/New_York:20210408T140000
DTEND;TZID=America/New_York:20210408T180000
DTSTAMP:20260421T182604
CREATED:20210401T114039Z
LAST-MODIFIED:20210401T114039Z
UID:15893-1617890400-1617904800@bnecareers.com
SUMMARY:Job Fair in Surf City\, N.C.
DESCRIPTION:
URL:https://bnecareers.com/job-fair/job-fair-in-surf-city-n-c-2/
LOCATION:Hardee’s of Surf City\, 418 Roland Avenue\, Surf City\, NC\, 28445\, United States
CATEGORIES:Job Fair
END:VEVENT
BEGIN:VEVENT
DTSTART;TZID=America/New_York:20210408T140000
DTEND;TZID=America/New_York:20210408T180000
DTSTAMP:20260421T182604
CREATED:20210401T113909Z
LAST-MODIFIED:20210401T113909Z
UID:15891-1617890400-1617904800@bnecareers.com
SUMMARY:Job Fair in Burgaw\, N.C.
DESCRIPTION:
URL:https://bnecareers.com/job-fair/job-fair-in-burgaw-n-c-2/
LOCATION:Burgaw\, 602-C Highway 117 North\, Burgaw\, NC\, 28425\, United States
CATEGORIES:Job Fair
END:VEVENT
BEGIN:VEVENT
DTSTART;TZID=America/New_York:20210407T140000
DTEND;TZID=America/New_York:20210407T180000
DTSTAMP:20260421T182604
CREATED:20210401T113321Z
LAST-MODIFIED:20210401T113321Z
UID:15883-1617804000-1617818400@bnecareers.com
SUMMARY:Job Fair in Port Royal\, S.C.
DESCRIPTION:
URL:https://bnecareers.com/job-fair/job-fair-in-port-royal-s-c-5/
LOCATION:Port Royal\, 1450 Ribault Road\, Port Royal\, SC\, 29935\, United States
CATEGORIES:Job Fair
END:VEVENT
BEGIN:VEVENT
DTSTART;TZID=America/New_York:20210406T140000
DTEND;TZID=America/New_York:20210406T180000
DTSTAMP:20260421T182604
CREATED:20210401T113747Z
LAST-MODIFIED:20210401T113747Z
UID:15889-1617717600-1617732000@bnecareers.com
SUMMARY:Job Fair in Ravenel\, S.C.
DESCRIPTION:
URL:https://bnecareers.com/job-fair/job-fair-in-ravenel-s-c-6/
LOCATION:Hardee’s of Ravenel\, 6320 Savannah Hwy\, Ravenal\, 29470
CATEGORIES:Job Fair
END:VEVENT
BEGIN:VEVENT
DTSTART;TZID=America/New_York:20210406T140000
DTEND;TZID=America/New_York:20210406T180000
DTSTAMP:20260421T182604
CREATED:20210401T113637Z
LAST-MODIFIED:20210401T113637Z
UID:15887-1617717600-1617732000@bnecareers.com
SUMMARY:Job Fair in Castle Hayne\, N.C.
DESCRIPTION:
URL:https://bnecareers.com/job-fair/job-fair-in-castle-hayne-n-c-2/
LOCATION:Castle Hayne in Castle Hayne\, 5601 Castle Hayne Road\, Castle Hayne\, NC\, 28429\, United States
CATEGORIES:Job Fair
END:VEVENT
BEGIN:VEVENT
DTSTART;TZID=America/New_York:20210401T140000
DTEND;TZID=America/New_York:20210401T180000
DTSTAMP:20260421T182604
CREATED:20210401T113513Z
LAST-MODIFIED:20210401T113513Z
UID:15885-1617285600-1617300000@bnecareers.com
SUMMARY:Job Fair in Wilmington\, N.C.
DESCRIPTION:
URL:https://bnecareers.com/job-fair/job-fair-in-wilmington-n-c-5/
LOCATION:17th Street\, 1970 S. 17th Street\, Wilmington\, NC\, 28401\, United States
CATEGORIES:Job Fair
END:VEVENT
BEGIN:VEVENT
DTSTART;TZID=America/New_York:20210401T100000
DTEND;TZID=America/New_York:20210401T170000
DTSTAMP:20260421T182604
CREATED:20210311T143712Z
LAST-MODIFIED:20210311T143712Z
UID:15871-1617271200-1617296400@bnecareers.com
SUMMARY:Crew and Management Job Fair in Roanoke\, Va.
DESCRIPTION:
URL:https://bnecareers.com/job-fair/crew-and-management-job-fair-in-roanoke-va-3/
LOCATION:Hardee’s of Brambleton\, 3729 Brambleton Ave.\, Roanoke\, VA\, 24018\, United States
CATEGORIES:Job Fair
END:VEVENT
BEGIN:VEVENT
DTSTART;TZID=America/New_York:20210310T100000
DTEND;TZID=America/New_York:20210310T170000
DTSTAMP:20260421T182604
CREATED:20210216T134556Z
LAST-MODIFIED:20210216T134556Z
UID:15858-1615370400-1615395600@bnecareers.com
SUMMARY:Crew Job Fair in Christiansburg\, Va.
DESCRIPTION:
URL:https://bnecareers.com/job-fair/crew-job-fair-in-christiansburg-va/
LOCATION:Hardee’s of Christiansburg\, 2437 Roanoke Street\, Christiansburg\, VA\, 24073\, United States
CATEGORIES:Job Fair
END:VEVENT
BEGIN:VEVENT
DTSTART;TZID=America/New_York:20210304T090000
DTEND;TZID=America/New_York:20210304T160000
DTSTAMP:20260421T182604
CREATED:20210219T185528Z
LAST-MODIFIED:20210219T185528Z
UID:15864-1614848400-1614873600@bnecareers.com
SUMMARY:Crew Job Fair in Shallotte\, N.C.
DESCRIPTION:Hardee’s in Shallotte\, N.C. is now hiring: Cooks\, Cashiers\, Biscuit makers and Shift Leaders \nGreat Opportunity for: Senior Citizens\, Adults\, College Students\, Retirees\, Teachers and Teens – Early Day Shifts\, Part time\, Full-time\, Weekends and Evenings. Come Grow with Us\, there are opportunities for growth at any level\, whether an hourly crew member or in management\, when you are part of our Hardee’s Team.\nApply and Check us out at BNECAREERS.COM OR text “JOBS” to 833-600-0506\nCall Hiring Manager to schedule an interview today. \nShift Leaders Up to $12.00\nCashiers Up to $9.00\nCooks & Biscuit makers Up to $10.00 \nAlso: Great Opportunities and Benefits\nGreat Pay\nDay Shift Incentive\nScholarships Opportunity\nFree and Reduces Meals\nFree Uniform – Hat\, Shirt\nFlexible Schedule\n401k\nHealth Insurance\nBenefits and more… Check us out at BNECAREERS.COM
URL:https://bnecareers.com/job-fair/crew-job-fair-in-shallotte-n-c/
LOCATION:Shallotte\, 4414 W. Main Street\, Shallotte\, NC\, 28470\, United States
CATEGORIES:Job Fair
END:VEVENT
BEGIN:VEVENT
DTSTART;TZID=America/New_York:20210304T090000
DTEND;TZID=America/New_York:20210304T160000
DTSTAMP:20260421T182604
CREATED:20210219T185305Z
LAST-MODIFIED:20210219T185305Z
UID:15862-1614848400-1614873600@bnecareers.com
SUMMARY:Crew Job Fair in Carolina Beach\, N.C.
DESCRIPTION:Hardee’s in Carolina Beach\, N.C. is now hiring: Cooks\, Cashiers\, Biscuit makers and Shift Leaders\nGreat Opportunity for: Senior Citizens\, Adults\, College Students\, Retirees\, Teachers and Teens – Early Day Shifts\, Part time\, Full-time\, Weekends and Evenings. Come Grow with Us\, there are opportunities for growth at any level\, whether an hourly crew member or in management\, when you are part of our Hardee’s Team.\nApply and Check us out at BNECAREERS.COM OR text “JOBS” to 833-600-0506\nCall Hiring Manager to schedule an interview today. \nShift Leaders Up to $12.00\nCashiers Up to $9.00\nCooks & Biscuit makers Up to $10.00 \nAlso: Great Opportunities and Benefits\nGreat Pay\nDay Shift Incentive\nScholarships Opportunity\nFree and Reduces Meals\nFree Uniform – Hat\, Shirt\nFlexible Schedule\n401k\nHealth Insurance\nBenefits and more… Check us out at BNECAREERS.COM
URL:https://bnecareers.com/job-fair/crew-job-fair-in-carolina-beach-n-c/
LOCATION:Carolina Beach\, 254 North Lake Park Blvd\, Carolina Beach\, 28428\, United States
CATEGORIES:Job Fair
END:VEVENT
BEGIN:VEVENT
DTSTART;TZID=America/New_York:20210301T090000
DTEND;TZID=America/New_York:20210301T160000
DTSTAMP:20260421T182604
CREATED:20210219T185057Z
LAST-MODIFIED:20210219T185057Z
UID:15860-1614589200-1614614400@bnecareers.com
SUMMARY:Crew Job Fair in Hampstead\, N.C.
DESCRIPTION:Hardee’s in Hampstead\, N.C. is now hiring Cooks\, Cashiers\, Biscuit makers and Shift Leaders \nGreat Opportunity for: Senior Citizens\, Adults\, College Students\, Retirees\, Teachers and Teens – Early Day Shifts\, Part time\, Full-time\, Weekends and Evenings. Come Grow with Us\, there are opportunities for growth at any level\, whether an hourly crew member or in management\, when you are part of our Hardee’s Team. \nApply and Check us out at BNECAREERS.COM OR text “JOBS” to 833-600-0506\nCall Hiring Manager to schedule an interview today. \nShift Leaders Up to $12.00\nCashiers Up to $9.00\nCooks & Biscuit makers Up to $10.00 \nAlso: Great Opportunities and Benefits\nGreat Pay\nDay Shift Incentive\nScholarships Opportunity\nFree and Reduces Meals\nFree Uniform – Hat\, Shirt\nFlexible Schedule\n401k\nHealth Insurance\nBenefits and more… Check us out at BNECAREERS.COM
URL:https://bnecareers.com/job-fair/crew-job-fair-in-hampstead-n-c/
LOCATION:Hampstead\, 14535 Highway 17 S\, Hampstead\, NC\, 28443\, United States
CATEGORIES:Job Fair
END:VEVENT
BEGIN:VEVENT
DTSTART;TZID=America/New_York:20210226T090000
DTEND;TZID=America/New_York:20210226T160000
DTSTAMP:20260421T182604
CREATED:20210222T135728Z
LAST-MODIFIED:20210222T135728Z
UID:15867-1614330000-1614355200@bnecareers.com
SUMMARY:Job Fair in Raleigh\, N.C.
DESCRIPTION:Hardee’s now hiring in Raleigh\, N.C. \nCooks\, Cashiers\, Biscuit makers and Shift Leaders\nGreat Opportunity for: Senior Citizens\, Adults\, College Students\, Retirees\, Teachers and Teens – Early Day Shifts\, Part time\, Full-time\, Weekends and Evenings. Come Grow with Us\, there are opportunities for growth at any level\, whether an hourly crew member or in management\, when you are part of our Hardee’s Team. \nApply and Check us out at BNECAREERS.COM OR text “JOBS” to 833-600-0506\nCall Hiring Manager to schedule an interview today. \nShift Leaders Up to $11.00\nCashiers Up to $9.00\nCooks & Biscuit makers Up to $10.00 \nAlso: Great Opportunities and Benefits\nGreat Pay\nDay Shift Incentive\nScholarships Opportunity\nFree and Reduces Meals\nFree Uniform – Hat\, Shirt\nFlexible Schedule\n401k\nHealth Insurance\nBenefits and more… Check us out at BNECAREERS.COM
URL:https://bnecareers.com/job-fair/job-fair-in-raleigh-n-c/
LOCATION:8000 Fayetteville Road\, 8000 Fayetteville Road\, Raleigh\, NC\, 27603\, United States
CATEGORIES:Job Fair
END:VEVENT
BEGIN:VEVENT
DTSTART;TZID=America/New_York:20210216T100000
DTEND;TZID=America/New_York:20210216T170000
DTSTAMP:20260421T182604
CREATED:20210122T152303Z
LAST-MODIFIED:20210122T152303Z
UID:15841-1613469600-1613494800@bnecareers.com
SUMMARY:Crew and Management Job Fair in Roanoke\, Va.
DESCRIPTION:We’ll be interviewing for both crew and management positions in the early morning shift!
URL:https://bnecareers.com/job-fair/crew-and-management-job-fair-in-roanoke-va-2/
LOCATION:Peters Creek\, 2398 Peters Creek Road\, NW\, Roanoke\, VA\, 24017\, United States
CATEGORIES:Job Fair
END:VEVENT
BEGIN:VEVENT
DTSTART;TZID=America/New_York:20210210T100000
DTEND;TZID=America/New_York:20210210T170000
DTSTAMP:20260421T182604
CREATED:20210122T152010Z
LAST-MODIFIED:20210122T152010Z
UID:15836-1612951200-1612976400@bnecareers.com
SUMMARY:Crew and Management Job Fair in Roanoke\, Va.
DESCRIPTION:We’ll be interviewing for early morning and daytime crew and shift managers.
URL:https://bnecareers.com/job-fair/crew-and-management-job-fair-in-roanoke-va/
LOCATION:Hardee’s of Vinton\, 2301 Orange Avenue NE\, Roanoke\, VA\, 24012\, United States
CATEGORIES:Job Fair
END:VEVENT
BEGIN:VEVENT
DTSTART;TZID=America/New_York:20210209T100000
DTEND;TZID=America/New_York:20210209T170000
DTSTAMP:20260421T182604
CREATED:20210121T130633Z
LAST-MODIFIED:20210121T130633Z
UID:15833-1612864800-1612890000@bnecareers.com
SUMMARY:Crew Job Fair in Radford\, Va.
DESCRIPTION:
URL:https://bnecareers.com/job-fair/crew-job-fair-in-radford-va/
LOCATION:7353 Lee Highway\, 7353 Lee Highway\, Radford\, VA\, 24141\, United States
CATEGORIES:Job Fair
END:VEVENT
BEGIN:VEVENT
DTSTART;TZID=America/New_York:20210121T100000
DTEND;TZID=America/New_York:20210121T170000
DTSTAMP:20260421T182604
CREATED:20201230T135237Z
LAST-MODIFIED:20201230T135237Z
UID:15823-1611223200-1611248400@bnecareers.com
SUMMARY:Crew and Management Job Fair in Troutville\, Va.
DESCRIPTION:
URL:https://bnecareers.com/job-fair/crew-and-management-job-fair-in-troutville-va/
LOCATION:Hardee’s of Troutville\, 2680 Lee Highway \, Troutville \, VA\, 24175\, United States
CATEGORIES:Job Fair
END:VEVENT
BEGIN:VEVENT
DTSTART;TZID=America/New_York:20210106T090000
DTEND;TZID=America/New_York:20210106T170000
DTSTAMP:20260421T182604
CREATED:20201221T214358Z
LAST-MODIFIED:20201221T214358Z
UID:15820-1609923600-1609952400@bnecareers.com
SUMMARY:Job Fair in Gloucester\, Va.
DESCRIPTION:We’re holding a job fair in Gloucester for the following locations: Shoppes of Gloucester\, Gloucester Point\, Saluda\, Mathews\, Warsaw and West Point! We’re hiring Breakfast Shift Leaders\, Shift Leaders and Restaurant Managers.
URL:https://bnecareers.com/job-fair/job-fair-in-gloucester-va/
LOCATION:Hardee’s of Shoppes of Gloucester\, 7007 George Washington Memorial Highway\, Gloucester\, VA\, 27061\, United States
CATEGORIES:Job Fair
END:VEVENT
BEGIN:VEVENT
DTSTART;TZID=America/New_York:20201203T100000
DTEND;TZID=America/New_York:20201203T170000
DTSTAMP:20260421T182604
CREATED:20201120T143342Z
LAST-MODIFIED:20201120T143342Z
UID:15720-1606989600-1607014800@bnecareers.com
SUMMARY:Crew and Management Job Fair in Conover\, N.C.
DESCRIPTION:Hiring for Claremont and Conover\, N.C.
URL:https://bnecareers.com/job-fair/crew-and-management-job-fair-in-conover-n-c/
LOCATION:Hardee’s of Conover\, 609 Conover Blvd.\, SW\, Conover\, NC\, 28613\, United States
CATEGORIES:Job Fair
END:VEVENT
BEGIN:VEVENT
DTSTART;TZID=America/New_York:20201119T100000
DTEND;TZID=America/New_York:20201119T190000
DTSTAMP:20260421T182604
CREATED:20201029T125946Z
LAST-MODIFIED:20201029T125946Z
UID:15711-1605780000-1605812400@bnecareers.com
SUMMARY:Crew and Management Job Fair in Hillsville\, Va.
DESCRIPTION:Come meet our new GM!
URL:https://bnecareers.com/job-fair/crew-and-management-job-fair-in-hillsville-va/
LOCATION:Hillsville\, 115 N. Main Street\, Hillsville\, VA\, 24343\, United States
CATEGORIES:Job Fair
END:VEVENT
BEGIN:VEVENT
DTSTART;TZID=America/New_York:20201112T100000
DTEND;TZID=America/New_York:20201112T190000
DTSTAMP:20260421T182604
CREATED:20201029T125654Z
LAST-MODIFIED:20201029T134544Z
UID:15708-1605175200-1605207600@bnecareers.com
SUMMARY:Crew and Management Job Fair in Pilot Mountain\, N.C.
DESCRIPTION:Come meet our new GM!
URL:https://bnecareers.com/job-fair/crew-and-management-job-fair-in-pilot-mountain-n-c/
LOCATION:Armfield Civic and Recreation Center\, 873 W. 52 Bypass\, Pilot Mountain\, NC\, 27041\, United States
CATEGORIES:Job Fair
END:VEVENT
BEGIN:VEVENT
DTSTART;TZID=America/New_York:20201111T090000
DTEND;TZID=America/New_York:20201111T190000
DTSTAMP:20260421T182604
CREATED:20201105T141100Z
LAST-MODIFIED:20201105T141100Z
UID:15715-1605085200-1605121200@bnecareers.com
SUMMARY:Hiring Event in Petersburg\, Va.
DESCRIPTION:Offers on the spot for Hardee’s of Prince George\, our newest Hardee’s location! \nRegister here: https://events.indeed.com/event/72144/?from=fb
URL:https://bnecareers.com/job-fair/hiring-event-in-petersburg-va-2/
LOCATION:2135 County Drive\, 2135 County Drive\, Petersburg\, VA\, 23803\, United States
CATEGORIES:Job Fair
END:VEVENT
BEGIN:VEVENT
DTSTART;TZID=America/New_York:20201105T100000
DTEND;TZID=America/New_York:20201105T170000
DTSTAMP:20260421T182604
CREATED:20201022T125230Z
LAST-MODIFIED:20201022T125230Z
UID:15706-1604570400-1604595600@bnecareers.com
SUMMARY:Management and Crew Job Fair in Roanoke\, Va.
DESCRIPTION:
URL:https://bnecareers.com/job-fair/management-and-crew-job-fair-in-roanoke-va/
LOCATION:Hardee’s of Tanglewood Mall\, 4060 Electric Road\, Roanoke\, VA\, 24018\, United States
CATEGORIES:Job Fair
END:VEVENT
BEGIN:VEVENT
DTSTART;TZID=America/New_York:20201026T100000
DTEND;TZID=America/New_York:20201026T140000
DTSTAMP:20260421T182604
CREATED:20201021T205223Z
LAST-MODIFIED:20201021T205223Z
UID:15699-1603706400-1603720800@bnecareers.com
SUMMARY:Job Fair in Burgaw\, N.C.
DESCRIPTION:
URL:https://bnecareers.com/job-fair/job-fair-in-burgaw-n-c/
LOCATION:Burgaw\, 602-C Highway 117 North\, Burgaw\, NC\, 28425\, United States
CATEGORIES:Job Fair
END:VEVENT
BEGIN:VEVENT
DTSTART;TZID=America/New_York:20201023T090000
DTEND;TZID=America/New_York:20201023T140000
DTSTAMP:20260421T182604
CREATED:20201022T124432Z
LAST-MODIFIED:20201022T124432Z
UID:15702-1603443600-1603461600@bnecareers.com
SUMMARY:Hiring Event in Petersburg\, Va.
DESCRIPTION:Offers on the spot at our hiring event for our new Hardee’s of Prince George!  \nRSVP here: https://events.indeed.com/event/69884/?from=fb
URL:https://bnecareers.com/job-fair/hiring-event-in-petersburg-va/
LOCATION:1865 S. Crater Road\, 1865 S. Crater Road\, Petersburg\, VA\, 23805\, United States
CATEGORIES:Job Fair
END:VEVENT
BEGIN:VEVENT
DTSTART;TZID=America/New_York:20201021T100000
DTEND;TZID=America/New_York:20201021T160000
DTSTAMP:20260421T182604
CREATED:20201021T133832Z
LAST-MODIFIED:20201021T133832Z
UID:15695-1603274400-1603296000@bnecareers.com
SUMMARY:Job Fair in Hampstead\, N.C.
DESCRIPTION:
URL:https://bnecareers.com/job-fair/job-fair-in-hampstead-n-c/
LOCATION:Hampstead\, 14535 Highway 17 S\, Hampstead\, NC\, 28443\, United States
CATEGORIES:Job Fair
END:VEVENT
BEGIN:VEVENT
DTSTART;TZID=America/New_York:20201015T090000
DTEND;TZID=America/New_York:20201015T160000
DTSTAMP:20260421T182604
CREATED:20201014T121540Z
LAST-MODIFIED:20201014T121540Z
UID:15687-1602752400-1602777600@bnecareers.com
SUMMARY:Job Fair in Garner\, N.C.
DESCRIPTION:Hardee’s Now Hiring\nCooks\, Cashiers\, Biscuit makers and Shift Leaders\nGreat Opportunity for: Senior Citizens\, Adults\, College Students\, Retirees\, Teachers and Teens – Early Day Shifts\, Part time\, Full-time\, Weekends and Evenings. Come Grow with Us\, there are opportunities for growth at any level\, whether an hourly crew member or in management\, when you are part of our Hardee’s Team.\nApply and Check us out at BNECAREERS.COM OR text “JOBS” to 833-600-0506\nCall Hiring Manager to schedule an interview today.\n        919-772-7209  \nShift Leaders Up to $13.00\nCashiers Up to $10.00\nCooks & Biscuit makers Up to $11.00 \nAlso: Great Opportunities and Benefits\nGreat Pay\nDay Shift Incentive\nScholarships Opportunity\nFree and Reduces Meals\nFree Uniform – Hat\, Shirt\nFlexible Schedule\n401k\nHealth Insurance\nBenefits and more… Check us out at BNECAREERS.COM
URL:https://bnecareers.com/job-fair/job-fair-in-garner-n-c/
LOCATION:100 Vandora Springs Road\, 100 Vandora Springs Road\, Garner\, NC\, 27529\, United States
CATEGORIES:Job Fair
END:VEVENT
BEGIN:VEVENT
DTSTART;TZID=America/New_York:20201008T090000
DTEND;TZID=America/New_York:20201008T170000
DTSTAMP:20260421T182604
CREATED:20201001T131632Z
LAST-MODIFIED:20201001T131632Z
UID:15679-1602147600-1602176400@bnecareers.com
SUMMARY:Management Job Fair in Roanoke\, Va.
DESCRIPTION:Come join our team! We’ll be interviewing for a general manager\, assistant manager and shift managers for the Roanoke area.
URL:https://bnecareers.com/job-fair/management-job-fair-in-roanoke-va/
LOCATION:4060 Electric Road\, 4060 Electric Road\, Roanoke\, VA\, 24018\, United States
CATEGORIES:Job Fair
END:VEVENT
BEGIN:VEVENT
DTSTART;TZID=America/New_York:20201006T110000
DTEND;TZID=America/New_York:20201006T170000
DTSTAMP:20260421T182604
CREATED:20200917T191330Z
LAST-MODIFIED:20200917T191330Z
UID:15655-1601982000-1602003600@bnecareers.com
SUMMARY:Crew Job Fair in Denver\, N.C.
DESCRIPTION:Hiring for all crew positions and all shifts!
URL:https://bnecareers.com/job-fair/crew-job-fair-in-denver-n-c/
LOCATION:Hardee’s of Denver\, 6090 Highway 16 N\, Denver\, NC\, 28037\, United States
CATEGORIES:Job Fair
END:VEVENT
END:VCALENDAR